BEGIN:VCALENDAR
VERSION:2.0
PRODID:-//skyhawkseastbay.com - ECPv6.15.20//NONSGML v1.0//EN
CALSCALE:GREGORIAN
METHOD:PUBLISH
X-ORIGINAL-URL:https://skyhawkseastbay.com
X-WR-CALDESC:Events for skyhawkseastbay.com
REFRESH-INTERVAL;VALUE=DURATION:PT1H
X-Robots-Tag:noindex
X-PUBLISHED-TTL:PT1H
BEGIN:VTIMEZONE
TZID:America/Los_Angeles
BEGIN:DAYLIGHT
TZOFFSETFROM:-0800
TZOFFSETTO:-0700
TZNAME:PDT
DTSTART:20250309T100000
END:DAYLIGHT
BEGIN:STANDARD
TZOFFSETFROM:-0700
TZOFFSETTO:-0800
TZNAME:PST
DTSTART:20251102T090000
END:STANDARD
BEGIN:DAYLIGHT
TZOFFSETFROM:-0800
TZOFFSETTO:-0700
TZNAME:PDT
DTSTART:20260308T100000
END:DAYLIGHT
BEGIN:STANDARD
TZOFFSETFROM:-0700
TZOFFSETTO:-0800
TZNAME:PST
DTSTART:20261101T090000
END:STANDARD
BEGIN:DAYLIGHT
TZOFFSETFROM:-0800
TZOFFSETTO:-0700
TZNAME:PDT
DTSTART:20270314T100000
END:DAYLIGHT
BEGIN:STANDARD
TZOFFSETFROM:-0700
TZOFFSETTO:-0800
TZNAME:PST
DTSTART:20271107T090000
END:STANDARD
END:VTIMEZONE
BEGIN:VEVENT
DTSTART;TZID=America/Los_Angeles:20260421T183000
DTEND;TZID=America/Los_Angeles:20260421T193000
DTSTAMP:20260420T073012
CREATED:20251222T052506Z
LAST-MODIFIED:20251222T052506Z
UID:10011766-1776796200-1776799800@skyhawkseastbay.com
SUMMARY:Albany Volleyball Clinic (Fun & Fundamentals)
DESCRIPTION:Albany Volleyball Clinic (Fun & Fundamentals) \n\nDates: Tuesdays (4/14/26-5/19/26)\nNo Class Dates: N/A\n# of Weeks: 6\nTime: 6:30pm-7:30pm\nAges: 6-10\nLocation: Ocean View Elementary MPR\nSeason: Winter/Spring Session 3\n\nLearning the fundamentals of volleyball has never been so much FUN! Our engaging curriculum and age-appropriate equipment make it easy for beginners to jump into the game while building essential skills\, confidence\, and character through the power of play. At Skyhawks\, our enthusiastic coaches foster a welcoming atmosphere that encourages skill enhancement\, teamwork\, and the creation of lasting friendships. Your child will leave this program with new skills\, a new passion for volleyball\, and new friends to share the journey with! Our development objectives include bumping/passing\, setting\, hitting\, serving\, coordination\, balance\, body movement\, leadership\, sportsmanship\, teamwork\, and self-esteem
URL:https://skyhawkseastbay.com/event/albany-volleyball-clinic-fun-fundamentals-3/2026-04-21/
LOCATION:Ocean View Elementary MPR\, 1000 Jackson Street\, Albany\, 94706\, United States
CATEGORIES:Volleyballl
ATTACH;FMTTYPE=image/png:https://skyhawkseastbay.com/wp-content/uploads/2025/07/9.png
GEO:37.8866516;-122.3014264
X-APPLE-STRUCTURED-LOCATION;VALUE=URI;X-ADDRESS=Ocean View Elementary MPR 1000 Jackson Street Albany 94706 United States;X-APPLE-RADIUS=500;X-TITLE=1000 Jackson Street:geo:-122.3014264,37.8866516
END:VEVENT
BEGIN:VEVENT
DTSTART;TZID=America/Los_Angeles:20260422T183000
DTEND;TZID=America/Los_Angeles:20260422T193000
DTSTAMP:20260420T073012
CREATED:20251222T053245Z
LAST-MODIFIED:20251222T053245Z
UID:10011798-1776882600-1776886200@skyhawkseastbay.com
SUMMARY:Albany Volleyball Clinic (Skills & Scrimmages)
DESCRIPTION:Albany Volleyball Clinic (Skills & Scrimmages) \n\nDates: Wednesdays (4/15/26-5/20/826\nNo Class Dates: N/A\n# of Weeks: 6\nTime: 6:30pm-7:30pm\nAges: 9-12\nLocation: Ocean View Elementary MPR\nSeason: Winter-Spring Session 3\n\nGet ready for an exhilarating experience where young athletes learn to unleash their potential through the power of play! Designed to equip aspiring players with essential skills and winning strategies\, this program promises an action-packed adventure that combines the skill-enhancement teachings of a clinic with the competitive excitement of a league.  Each day starts with an interactive 45-minute skill development clinic where players work with our enthusiastic staff to develop their passing\, setting\, hitting\, and serving skills.  Then\, it’s time to put those skills into action with 30 minutes of simulated scrimmages.  Here\, players can showcase their newfound skills with all the excitement of a game-day atmosphere.  So\, bring your friends or come ready to make new ones—it’s time for an unforgettable experience that promises to inspire and empower every player!
URL:https://skyhawkseastbay.com/event/albany-volleyball-clinic-skills-scrimmages-3/2026-04-22/
LOCATION:Ocean View Elementary MPR\, 1000 Jackson Street\, Albany\, 94706\, United States
CATEGORIES:Volleyballl
ATTACH;FMTTYPE=image/png:https://skyhawkseastbay.com/wp-content/uploads/2025/07/9.png
GEO:37.8866516;-122.3014264
X-APPLE-STRUCTURED-LOCATION;VALUE=URI;X-ADDRESS=Ocean View Elementary MPR 1000 Jackson Street Albany 94706 United States;X-APPLE-RADIUS=500;X-TITLE=1000 Jackson Street:geo:-122.3014264,37.8866516
END:VEVENT
END:VCALENDAR