BEGIN:VCALENDAR
VERSION:2.0
PRODID:-//skyhawkseastbay.com - ECPv6.15.20//NONSGML v1.0//EN
CALSCALE:GREGORIAN
METHOD:PUBLISH
X-WR-CALNAME:skyhawkseastbay.com
X-ORIGINAL-URL:https://skyhawkseastbay.com
X-WR-CALDESC:Events for skyhawkseastbay.com
REFRESH-INTERVAL;VALUE=DURATION:PT1H
X-Robots-Tag:noindex
X-PUBLISHED-TTL:PT1H
BEGIN:VTIMEZONE
TZID:America/Los_Angeles
BEGIN:DAYLIGHT
TZOFFSETFROM:-0800
TZOFFSETTO:-0700
TZNAME:PDT
DTSTART:20250309T100000
END:DAYLIGHT
BEGIN:STANDARD
TZOFFSETFROM:-0700
TZOFFSETTO:-0800
TZNAME:PST
DTSTART:20251102T090000
END:STANDARD
BEGIN:DAYLIGHT
TZOFFSETFROM:-0800
TZOFFSETTO:-0700
TZNAME:PDT
DTSTART:20260308T100000
END:DAYLIGHT
BEGIN:STANDARD
TZOFFSETFROM:-0700
TZOFFSETTO:-0800
TZNAME:PST
DTSTART:20261101T090000
END:STANDARD
BEGIN:DAYLIGHT
TZOFFSETFROM:-0800
TZOFFSETTO:-0700
TZNAME:PDT
DTSTART:20270314T100000
END:DAYLIGHT
BEGIN:STANDARD
TZOFFSETFROM:-0700
TZOFFSETTO:-0800
TZNAME:PST
DTSTART:20271107T090000
END:STANDARD
END:VTIMEZONE
BEGIN:VEVENT
DTSTART;TZID=America/Los_Angeles:20260629T151500
DTEND;TZID=America/Los_Angeles:20260629T160000
DTSTAMP:20260413T230003
CREATED:20260324T044204Z
LAST-MODIFIED:20260324T044204Z
UID:10012440-1782746100-1782748800@skyhawkseastbay.com
SUMMARY:Danville HoopsterTots (ages 3-4)
DESCRIPTION:Danville HoopsterTots (age 3) \n\nDates: M-Th (6/29/26-7/02/26)\nNo Class Dates: N/A\n# of Days: 4\nTime: 3:15pm-4:00pm\nAges: 3\nOak Hill Park\, Danville (Ballroom)\nPrice: $130\n\nBring your child’s love for basketball to life with Skyhawks HoopsterTots! Our fun and engaging program features a variety of dynamic games and activities that help kids develop essential skills while fostering their confidence and passion for the game. Skyhawks coaches create a warm and supportive environment where children of all abilities can learn and grow at their own pace\, with lots of encouragement and a big focus on FUN!  Our age-appropriate curriculum and modified equipment enable our youngest athletes to dribbling\, passing\, shooting\, body movement\, coordination\, balance\, agility\, and self-esteem through the power of play. Your child will leave this program with new skills\, new friends\, and a new love for basketball
URL:https://skyhawkseastbay.com/event/danville-hoopstertots-ages-3-4/2026-06-29/
LOCATION:Oak Hill Park\, 3005 Stone Valley Rd\, Danville\, CA\, 94526\, United States
CATEGORIES:Basketball
ATTACH;FMTTYPE=image/png:https://skyhawkseastbay.com/wp-content/uploads/2025/07/1.png
GEO:37.8428913;-121.9845507
X-APPLE-STRUCTURED-LOCATION;VALUE=URI;X-ADDRESS=Oak Hill Park 3005 Stone Valley Rd Danville CA 94526 United States;X-APPLE-RADIUS=500;X-TITLE=3005 Stone Valley Rd:geo:-121.9845507,37.8428913
END:VEVENT
BEGIN:VEVENT
DTSTART;TZID=America/Los_Angeles:20260629T161500
DTEND;TZID=America/Los_Angeles:20260629T170000
DTSTAMP:20260413T230003
CREATED:20260324T044821Z
LAST-MODIFIED:20260324T044821Z
UID:10012448-1782749700-1782752400@skyhawkseastbay.com
SUMMARY:Danville HoopsterTots (ages 4-6)
DESCRIPTION:Danville HoopsterTots (age 3) \n\nDates: M-Th (6/29/26-7/02/26)\nNo Class Dates: N/A\n# of Days: 4\nTime: 3:15pm-4:00pm\nAges: 4-6\nOak Hill Park\, Danville (Ballroom)\nPrice: $130\n\nBring your child’s love for basketball to life with Skyhawks HoopsterTots! Our fun and engaging program features a variety of dynamic games and activities that help kids develop essential skills while fostering their confidence and passion for the game. Skyhawks coaches create a warm and supportive environment where children of all abilities can learn and grow at their own pace\, with lots of encouragement and a big focus on FUN!  Our age-appropriate curriculum and modified equipment enable our youngest athletes to dribbling\, passing\, shooting\, body movement\, coordination\, balance\, agility\, and self-esteem through the power of play. Your child will leave this program with new skills\, new friends\, and a new love for basketball
URL:https://skyhawkseastbay.com/event/danville-hoopstertots-ages-4-6/2026-06-29/
LOCATION:Oak Hill Park\, 3005 Stone Valley Rd\, Danville\, CA\, 94526\, United States
CATEGORIES:Basketball
ATTACH;FMTTYPE=image/png:https://skyhawkseastbay.com/wp-content/uploads/2025/07/1.png
GEO:37.8428913;-121.9845507
X-APPLE-STRUCTURED-LOCATION;VALUE=URI;X-ADDRESS=Oak Hill Park 3005 Stone Valley Rd Danville CA 94526 United States;X-APPLE-RADIUS=500;X-TITLE=3005 Stone Valley Rd:geo:-121.9845507,37.8428913
END:VEVENT
BEGIN:VEVENT
DTSTART;TZID=America/Los_Angeles:20260720T151500
DTEND;TZID=America/Los_Angeles:20260720T160000
DTSTAMP:20260413T230003
CREATED:20260324T045312Z
LAST-MODIFIED:20260324T045312Z
UID:10012456-1784560500-1784563200@skyhawkseastbay.com
SUMMARY:Danville HoopsterTots (age 3)
DESCRIPTION:Danville HoopsterTots (age 3) \n\nDates: M-Th (7/20/26-7/23/26)\nNo Class Dates: N/A\n# of Days: 4\nTime: 3:15pm-4:00pm\nAges: 3\nOak Hill Park\, Danville (Ballroom)\nPrice: $130\n\nBring your child’s love for basketball to life with Skyhawks HoopsterTots! Our fun and engaging program features a variety of dynamic games and activities that help kids develop essential skills while fostering their confidence and passion for the game. Skyhawks coaches create a warm and supportive environment where children of all abilities can learn and grow at their own pace\, with lots of encouragement and a big focus on FUN!  Our age-appropriate curriculum and modified equipment enable our youngest athletes to dribbling\, passing\, shooting\, body movement\, coordination\, balance\, agility\, and self-esteem through the power of play. Your child will leave this program with new skills\, new friends\, and a new love for basketball
URL:https://skyhawkseastbay.com/event/danville-hoopstertots-age-3/2026-07-20/
LOCATION:Oak Hill Park\, 3005 Stone Valley Rd\, Danville\, CA\, 94526\, United States
CATEGORIES:Basketball
ATTACH;FMTTYPE=image/png:https://skyhawkseastbay.com/wp-content/uploads/2025/07/1.png
GEO:37.8428913;-121.9845507
X-APPLE-STRUCTURED-LOCATION;VALUE=URI;X-ADDRESS=Oak Hill Park 3005 Stone Valley Rd Danville CA 94526 United States;X-APPLE-RADIUS=500;X-TITLE=3005 Stone Valley Rd:geo:-121.9845507,37.8428913
END:VEVENT
BEGIN:VEVENT
DTSTART;TZID=America/Los_Angeles:20260720T161500
DTEND;TZID=America/Los_Angeles:20260720T170000
DTSTAMP:20260413T230003
CREATED:20260324T045844Z
LAST-MODIFIED:20260324T045844Z
UID:10012464-1784564100-1784566800@skyhawkseastbay.com
SUMMARY:Danville HoopsterTots (ages 4-6)
DESCRIPTION:Danville HoopsterTots (ages 4-5) \n\nDates: M-Th (7/20/26-7/23/26)\nNo Class Dates: N/A\n# of Days: 4\nTime: 4:15pm-5:00pm\nAges: 4-6\nOak Hill Park\, Danville (Ballroom)\nPrice: $130\n\nBring your child’s love for basketball to life with Skyhawks HoopsterTots! Our fun and engaging program features a variety of dynamic games and activities that help kids develop essential skills while fostering their confidence and passion for the game. Skyhawks coaches create a warm and supportive environment where children of all abilities can learn and grow at their own pace\, with lots of encouragement and a big focus on FUN!  Our age-appropriate curriculum and modified equipment enable our youngest athletes to dribbling\, passing\, shooting\, body movement\, coordination\, balance\, agility\, and self-esteem through the power of play. Your child will leave this program with new skills\, new friends\, and a new love for basketball
URL:https://skyhawkseastbay.com/event/danville-hoopstertots-ages-4-6-2/2026-07-20/
LOCATION:Oak Hill Park\, 3005 Stone Valley Rd\, Danville\, CA\, 94526\, United States
CATEGORIES:Basketball
ATTACH;FMTTYPE=image/png:https://skyhawkseastbay.com/wp-content/uploads/2025/07/1.png
GEO:37.8428913;-121.9845507
X-APPLE-STRUCTURED-LOCATION;VALUE=URI;X-ADDRESS=Oak Hill Park 3005 Stone Valley Rd Danville CA 94526 United States;X-APPLE-RADIUS=500;X-TITLE=3005 Stone Valley Rd:geo:-121.9845507,37.8428913
END:VEVENT
END:VCALENDAR