BEGIN:VCALENDAR
VERSION:2.0
PRODID:-//skyhawkseastbay.com - ECPv6.15.20//NONSGML v1.0//EN
CALSCALE:GREGORIAN
METHOD:PUBLISH
X-WR-CALNAME:skyhawkseastbay.com
X-ORIGINAL-URL:https://skyhawkseastbay.com
X-WR-CALDESC:Events for skyhawkseastbay.com
REFRESH-INTERVAL;VALUE=DURATION:PT1H
X-Robots-Tag:noindex
X-PUBLISHED-TTL:PT1H
BEGIN:VTIMEZONE
TZID:America/Los_Angeles
BEGIN:DAYLIGHT
TZOFFSETFROM:-0800
TZOFFSETTO:-0700
TZNAME:PDT
DTSTART:20250309T100000
END:DAYLIGHT
BEGIN:STANDARD
TZOFFSETFROM:-0700
TZOFFSETTO:-0800
TZNAME:PST
DTSTART:20251102T090000
END:STANDARD
BEGIN:DAYLIGHT
TZOFFSETFROM:-0800
TZOFFSETTO:-0700
TZNAME:PDT
DTSTART:20260308T100000
END:DAYLIGHT
BEGIN:STANDARD
TZOFFSETFROM:-0700
TZOFFSETTO:-0800
TZNAME:PST
DTSTART:20261101T090000
END:STANDARD
BEGIN:DAYLIGHT
TZOFFSETFROM:-0800
TZOFFSETTO:-0700
TZNAME:PDT
DTSTART:20270314T100000
END:DAYLIGHT
BEGIN:STANDARD
TZOFFSETFROM:-0700
TZOFFSETTO:-0800
TZNAME:PST
DTSTART:20271107T090000
END:STANDARD
END:VTIMEZONE
BEGIN:VEVENT
DTSTART;TZID=America/Los_Angeles:20260706T090000
DTEND;TZID=America/Los_Angeles:20260706T120000
DTSTAMP:20260418T050733
CREATED:20260315T034034Z
LAST-MODIFIED:20260315T034034Z
UID:10011887-1783328400-1783339200@skyhawkseastbay.com
SUMMARY:Orinda Flag Football Camp (Skills)
DESCRIPTION:Orinda Flag Football Camp (Half-Day: Skills) \n\nDates: Monday – Friday (7/06/26-7/10/26)\n# of Days: 5\nTime: 9:00am-12:00pm\nAges: 6-13\nDel Rey Elementary School Field\n\nThis camp is designed for beginning to intermediate players and aims to provide campers with the skills and confidence to advance in their football journey. Our enthusiastic staff and specialized curriculum allow young athletes to learn and grow through play\, with lots of encouragement and a strong emphasis on fun. \nCampers are grouped by age to participate in a series of interactive drills\, skill-development games\, and Skyhawks original competitions.  By adding just the right amount of friendly competition\, our instruction extends beyond the field\, teaching vital life lessons for both sports and life\, including respect\, teamwork\, sportsmanship\, integrity\, leadership\, and self-esteem. Your child will leave this camp with new friends\, new skills\, and a new passion for Football. \nOur development objectives include passing\, rushing\, catching\, route running\, route combinations\, and flag pulling. \nInterested in scrimmaging? Sign up for our Full-Day Camp option\, which combines an afternoon of competitive scrimmage with our renowned half-day instructional camp.
URL:https://skyhawkseastbay.com/event/orinda-flag-football-camp-skills/2026-07-06/
LOCATION:Del Rey Elementary\, 25 El Camino Moraga\, Orinda\, CA\, 94563\, United States
CATEGORIES:Flag Football
ATTACH;FMTTYPE=image/png:https://skyhawkseastbay.com/wp-content/uploads/2025/07/14.png
GEO:37.8461224;-122.1528285
X-APPLE-STRUCTURED-LOCATION;VALUE=URI;X-ADDRESS=Del Rey Elementary 25 El Camino Moraga Orinda CA 94563 United States;X-APPLE-RADIUS=500;X-TITLE=25 El Camino Moraga:geo:-122.1528285,37.8461224
END:VEVENT
BEGIN:VEVENT
DTSTART;TZID=America/Los_Angeles:20260706T090000
DTEND;TZID=America/Los_Angeles:20260706T143000
DTSTAMP:20260418T050733
CREATED:20260315T034420Z
LAST-MODIFIED:20260315T034420Z
UID:10011896-1783328400-1783348200@skyhawkseastbay.com
SUMMARY:Orinda Flag Football Camp (Skills + Scrimmages)
DESCRIPTION:Orinda Flag Football Camp (Full-Day: Skills + Scrimmages) \n\nDates: Monday – Friday (7/06/26-7/10/26)\n# of Days: 5\nTime: 9:00am-2:30pm\nAges: 6-13\nLocation: Rudgear Park\, Walnut Creek\n\nThis action-packed full-day camp combines an afternoon of Flag Football Scrimmages with our renowned half-day Flag Football Instructional Camp. From 9 a.m. to 12 p.m.\, campers will develop their skills and confidence through interactive drills\, skill reinforcement games\, and Skyhawks’ original competitions.  These stations are designed to teach young athletes the fundamentals of throwing\, rushing\, receiving\, and flag pulling through the power of PLAY! \nAfter lunch\, it’s time to put those skills into action with a 30-minute team install practice followed by 90-minutes of competitive scrimmages. Here\, players can showcase their newfound skills against opposing teams with all the excitement of a game-day atmosphere. With no offensive/defensive lines\, these high-scoring aerial attack games are as much fun to watch as they are to play. So\, bring your friends or come ready to make new ones—it’s time for an unforgettable experience that promises to inspire and empower every player! \nOur enthusiastic staff and specialized curriculum allow young athletes to learn and grow through play\, with lots of encouragement and a strong emphasis on fun. By adding just the right amount of friendly competition\, our instruction extends beyond the field\, teaching vital life lessons for both sports and life\, including respect\, teamwork\, sportsmanship\, integrity\, leadership\, and self-esteem. Your child will leave this camp with new friends\, new skills\, and a new passion for sports.
URL:https://skyhawkseastbay.com/event/orinda-flag-football-camp-skills-scrimmages/2026-07-06/
LOCATION:Del Rey Elementary\, 25 El Camino Moraga\, Orinda\, CA\, 94563\, United States
CATEGORIES:Flag Football
ATTACH;FMTTYPE=image/png:https://skyhawkseastbay.com/wp-content/uploads/2025/07/14.png
GEO:37.8461224;-122.1528285
X-APPLE-STRUCTURED-LOCATION;VALUE=URI;X-ADDRESS=Del Rey Elementary 25 El Camino Moraga Orinda CA 94563 United States;X-APPLE-RADIUS=500;X-TITLE=25 El Camino Moraga:geo:-122.1528285,37.8461224
END:VEVENT
BEGIN:VEVENT
DTSTART;TZID=America/Los_Angeles:20260720T090000
DTEND;TZID=America/Los_Angeles:20260720T120000
DTSTAMP:20260418T050733
CREATED:20260315T044151Z
LAST-MODIFIED:20260315T044458Z
UID:10011905-1784538000-1784548800@skyhawkseastbay.com
SUMMARY:Orinda Mini-Hawk Camp
DESCRIPTION:Orinda Mini-Hawk Camp \n\nDates: M-F (7/20/26-7/24/26)\n# of Classes: 5\nTime: 9:00am-12:00pm\nAges: 4-6\nLocation: Del Rey Elementary School\, Orinda\nPrice: $245\n\nThis ultimate multi-sport camp combines baseball\, basketball\, flag football\, soccer\, and track and field\, allowing young athletes to develop a passion for a variety of sports in one fun-filled environment. Our specialized curriculum and modified equipment enable our youngest athletes to explore balance\, body movement\, coordination\, socialization\, teamwork\, sportsmanship\, self-esteem\, and sport-specific skill development through play! Skyhawks staff create a positive atmosphere where kids of all abilities can progress at their own pace\, with lots of encouragement and a strong emphasis on fun. Discover why our Mini-Hawk Camp is parents’ #1 choice for introducing their young athletes to sports!
URL:https://skyhawkseastbay.com/event/orinda-mini-hawk-camp/2026-07-20/
LOCATION:Del Rey Elementary\, 25 El Camino Moraga\, Orinda\, CA\, 94563\, United States
CATEGORIES:Baseball,Basketball,Flag Football,Multi-Sport,Soccer
ATTACH;FMTTYPE=image/png:https://skyhawkseastbay.com/wp-content/uploads/2025/07/7.png
GEO:37.8461224;-122.1528285
X-APPLE-STRUCTURED-LOCATION;VALUE=URI;X-ADDRESS=Del Rey Elementary 25 El Camino Moraga Orinda CA 94563 United States;X-APPLE-RADIUS=500;X-TITLE=25 El Camino Moraga:geo:-122.1528285,37.8461224
END:VEVENT
BEGIN:VEVENT
DTSTART;TZID=America/Los_Angeles:20260720T090000
DTEND;TZID=America/Los_Angeles:20260720T120000
DTSTAMP:20260418T050733
CREATED:20260315T044424Z
LAST-MODIFIED:20260315T044424Z
UID:10011914-1784538000-1784548800@skyhawkseastbay.com
SUMMARY:Orinda Summer Camp Olympics
DESCRIPTION:Orinda Summer Camp Olympics \n\nDates: M-F (7/20-7/24)\n# of Days: 5\nTime: 9:00am-12:00pm\nAges: 7-12\nLocation: Del Rey Elementary School\, Orinda\nPrice: $245\n\nJoin us for an action-packed week filled with Skyhawks’ original variations of your favorite sports\, including Baseball\, Capture the Flag\, Dodgeball\, Flag Football\, Kickball\, Soccer\, Track and Field\, Ultimate\, and more! You’ll learn the key rules\, strategies\, and skills for each sport while also picking up important lessons about teamwork and sportsmanship. Our awesome Skyhawks coaches create a warm and welcoming atmosphere where everyone\, no matter their skill level\, can enjoy friendly competition\, receive lots of encouragement\, and simply have a blast!  Bring your friends or come make new ones.
URL:https://skyhawkseastbay.com/event/orinda-summer-camp-olympics/2026-07-20/
LOCATION:Del Rey Elementary\, 25 El Camino Moraga\, Orinda\, CA\, 94563\, United States
CATEGORIES:Baseball,Basketball,Flag Football,Multi-Sport,Soccer
ATTACH;FMTTYPE=image/png:https://skyhawkseastbay.com/wp-content/uploads/2025/07/7.png
GEO:37.8461224;-122.1528285
X-APPLE-STRUCTURED-LOCATION;VALUE=URI;X-ADDRESS=Del Rey Elementary 25 El Camino Moraga Orinda CA 94563 United States;X-APPLE-RADIUS=500;X-TITLE=25 El Camino Moraga:geo:-122.1528285,37.8461224
END:VEVENT
END:VCALENDAR