BEGIN:VCALENDAR
VERSION:2.0
PRODID:-//skyhawkseastbay.com - ECPv6.15.20//NONSGML v1.0//EN
CALSCALE:GREGORIAN
METHOD:PUBLISH
X-ORIGINAL-URL:https://skyhawkseastbay.com
X-WR-CALDESC:Events for skyhawkseastbay.com
REFRESH-INTERVAL;VALUE=DURATION:PT1H
X-Robots-Tag:noindex
X-PUBLISHED-TTL:PT1H
BEGIN:VTIMEZONE
TZID:America/Los_Angeles
BEGIN:DAYLIGHT
TZOFFSETFROM:-0800
TZOFFSETTO:-0700
TZNAME:PDT
DTSTART:20250309T100000
END:DAYLIGHT
BEGIN:STANDARD
TZOFFSETFROM:-0700
TZOFFSETTO:-0800
TZNAME:PST
DTSTART:20251102T090000
END:STANDARD
BEGIN:DAYLIGHT
TZOFFSETFROM:-0800
TZOFFSETTO:-0700
TZNAME:PDT
DTSTART:20260308T100000
END:DAYLIGHT
BEGIN:STANDARD
TZOFFSETFROM:-0700
TZOFFSETTO:-0800
TZNAME:PST
DTSTART:20261101T090000
END:STANDARD
BEGIN:DAYLIGHT
TZOFFSETFROM:-0800
TZOFFSETTO:-0700
TZNAME:PDT
DTSTART:20270314T100000
END:DAYLIGHT
BEGIN:STANDARD
TZOFFSETFROM:-0700
TZOFFSETTO:-0800
TZNAME:PST
DTSTART:20271107T090000
END:STANDARD
END:VTIMEZONE
BEGIN:VEVENT
DTSTART;TZID=America/Los_Angeles:20260720T090000
DTEND;TZID=America/Los_Angeles:20260720T120000
DTSTAMP:20260420T071820
CREATED:20260326T033204Z
LAST-MODIFIED:20260326T033204Z
UID:10012501-1784538000-1784548800@skyhawkseastbay.com
SUMMARY:Albany Basketball Camp (Half-Day: Skills)
DESCRIPTION:Albany Basketball Camp (Half-Day: Skills) \n\nDates: M-F (7/20/26-7/24/26)\n# of Days: 5\nTime: 9:00am-12:00pm\nAges: 6-13\nLocation: Albany High School Gym\, Albany\nPrice: $270\n\nDevelop the skills and confidence to advance in your basketball journey.  Our enthusiastic staff and specialized curriculum allow young athletes to learn and grow through play\, with lots of encouragement and a strong emphasis on fun. Campers are grouped by age to participate in a series of interactive drills\, skill-development games\, and Skyhawks original competitions.  By adding just the right amount of friendly competition\, our instruction extends beyond the court\, teaching vital life lessons for both sports and life\, including respect\, teamwork\, sportsmanship\, integrity\, leadership\, and self-esteem. Your child will leave this camp with new friends\, new skills\, and a new passion for basketball.  Our development objectives include dribbling\, passing\, shooting\, and rebounding.  Interested in scrimmaging? Sign up for our Full-Day Camp option\, which combines an afternoon of competitive scrimmage with our renowned half-day instructional camp.
URL:https://skyhawkseastbay.com/event/albany-basketball-camp-half-day-skills/2026-07-20/
LOCATION:Albany High School Gym\, 603 Key Rte Blvd\, Albany\, 94706\, United States
CATEGORIES:Basketball
ATTACH;FMTTYPE=image/png:https://skyhawkseastbay.com/wp-content/uploads/2025/07/1.png
GEO:37.8963039;-122.2921754
X-APPLE-STRUCTURED-LOCATION;VALUE=URI;X-ADDRESS=Albany High School Gym 603 Key Rte Blvd Albany 94706 United States;X-APPLE-RADIUS=500;X-TITLE=603 Key Rte Blvd:geo:-122.2921754,37.8963039
END:VEVENT
BEGIN:VEVENT
DTSTART;TZID=America/Los_Angeles:20260721T090000
DTEND;TZID=America/Los_Angeles:20260721T120000
DTSTAMP:20260420T071820
CREATED:20260326T033204Z
LAST-MODIFIED:20260326T033204Z
UID:10012502-1784624400-1784635200@skyhawkseastbay.com
SUMMARY:Albany Basketball Camp (Half-Day: Skills)
DESCRIPTION:Albany Basketball Camp (Half-Day: Skills) \n\nDates: M-F (7/20/26-7/24/26)\n# of Days: 5\nTime: 9:00am-12:00pm\nAges: 6-13\nLocation: Albany High School Gym\, Albany\nPrice: $270\n\nDevelop the skills and confidence to advance in your basketball journey.  Our enthusiastic staff and specialized curriculum allow young athletes to learn and grow through play\, with lots of encouragement and a strong emphasis on fun. Campers are grouped by age to participate in a series of interactive drills\, skill-development games\, and Skyhawks original competitions.  By adding just the right amount of friendly competition\, our instruction extends beyond the court\, teaching vital life lessons for both sports and life\, including respect\, teamwork\, sportsmanship\, integrity\, leadership\, and self-esteem. Your child will leave this camp with new friends\, new skills\, and a new passion for basketball.  Our development objectives include dribbling\, passing\, shooting\, and rebounding.  Interested in scrimmaging? Sign up for our Full-Day Camp option\, which combines an afternoon of competitive scrimmage with our renowned half-day instructional camp.
URL:https://skyhawkseastbay.com/event/albany-basketball-camp-half-day-skills/2026-07-21/
LOCATION:Albany High School Gym\, 603 Key Rte Blvd\, Albany\, 94706\, United States
CATEGORIES:Basketball
ATTACH;FMTTYPE=image/png:https://skyhawkseastbay.com/wp-content/uploads/2025/07/1.png
GEO:37.8963039;-122.2921754
X-APPLE-STRUCTURED-LOCATION;VALUE=URI;X-ADDRESS=Albany High School Gym 603 Key Rte Blvd Albany 94706 United States;X-APPLE-RADIUS=500;X-TITLE=603 Key Rte Blvd:geo:-122.2921754,37.8963039
END:VEVENT
BEGIN:VEVENT
DTSTART;TZID=America/Los_Angeles:20260722T090000
DTEND;TZID=America/Los_Angeles:20260722T120000
DTSTAMP:20260420T071820
CREATED:20260326T033204Z
LAST-MODIFIED:20260326T033204Z
UID:10012503-1784710800-1784721600@skyhawkseastbay.com
SUMMARY:Albany Basketball Camp (Half-Day: Skills)
DESCRIPTION:Albany Basketball Camp (Half-Day: Skills) \n\nDates: M-F (7/20/26-7/24/26)\n# of Days: 5\nTime: 9:00am-12:00pm\nAges: 6-13\nLocation: Albany High School Gym\, Albany\nPrice: $270\n\nDevelop the skills and confidence to advance in your basketball journey.  Our enthusiastic staff and specialized curriculum allow young athletes to learn and grow through play\, with lots of encouragement and a strong emphasis on fun. Campers are grouped by age to participate in a series of interactive drills\, skill-development games\, and Skyhawks original competitions.  By adding just the right amount of friendly competition\, our instruction extends beyond the court\, teaching vital life lessons for both sports and life\, including respect\, teamwork\, sportsmanship\, integrity\, leadership\, and self-esteem. Your child will leave this camp with new friends\, new skills\, and a new passion for basketball.  Our development objectives include dribbling\, passing\, shooting\, and rebounding.  Interested in scrimmaging? Sign up for our Full-Day Camp option\, which combines an afternoon of competitive scrimmage with our renowned half-day instructional camp.
URL:https://skyhawkseastbay.com/event/albany-basketball-camp-half-day-skills/2026-07-22/
LOCATION:Albany High School Gym\, 603 Key Rte Blvd\, Albany\, 94706\, United States
CATEGORIES:Basketball
ATTACH;FMTTYPE=image/png:https://skyhawkseastbay.com/wp-content/uploads/2025/07/1.png
GEO:37.8963039;-122.2921754
X-APPLE-STRUCTURED-LOCATION;VALUE=URI;X-ADDRESS=Albany High School Gym 603 Key Rte Blvd Albany 94706 United States;X-APPLE-RADIUS=500;X-TITLE=603 Key Rte Blvd:geo:-122.2921754,37.8963039
END:VEVENT
BEGIN:VEVENT
DTSTART;TZID=America/Los_Angeles:20260723T090000
DTEND;TZID=America/Los_Angeles:20260723T120000
DTSTAMP:20260420T071820
CREATED:20260326T033204Z
LAST-MODIFIED:20260326T033204Z
UID:10012504-1784797200-1784808000@skyhawkseastbay.com
SUMMARY:Albany Basketball Camp (Half-Day: Skills)
DESCRIPTION:Albany Basketball Camp (Half-Day: Skills) \n\nDates: M-F (7/20/26-7/24/26)\n# of Days: 5\nTime: 9:00am-12:00pm\nAges: 6-13\nLocation: Albany High School Gym\, Albany\nPrice: $270\n\nDevelop the skills and confidence to advance in your basketball journey.  Our enthusiastic staff and specialized curriculum allow young athletes to learn and grow through play\, with lots of encouragement and a strong emphasis on fun. Campers are grouped by age to participate in a series of interactive drills\, skill-development games\, and Skyhawks original competitions.  By adding just the right amount of friendly competition\, our instruction extends beyond the court\, teaching vital life lessons for both sports and life\, including respect\, teamwork\, sportsmanship\, integrity\, leadership\, and self-esteem. Your child will leave this camp with new friends\, new skills\, and a new passion for basketball.  Our development objectives include dribbling\, passing\, shooting\, and rebounding.  Interested in scrimmaging? Sign up for our Full-Day Camp option\, which combines an afternoon of competitive scrimmage with our renowned half-day instructional camp.
URL:https://skyhawkseastbay.com/event/albany-basketball-camp-half-day-skills/2026-07-23/
LOCATION:Albany High School Gym\, 603 Key Rte Blvd\, Albany\, 94706\, United States
CATEGORIES:Basketball
ATTACH;FMTTYPE=image/png:https://skyhawkseastbay.com/wp-content/uploads/2025/07/1.png
GEO:37.8963039;-122.2921754
X-APPLE-STRUCTURED-LOCATION;VALUE=URI;X-ADDRESS=Albany High School Gym 603 Key Rte Blvd Albany 94706 United States;X-APPLE-RADIUS=500;X-TITLE=603 Key Rte Blvd:geo:-122.2921754,37.8963039
END:VEVENT
BEGIN:VEVENT
DTSTART;TZID=America/Los_Angeles:20260724T090000
DTEND;TZID=America/Los_Angeles:20260724T120000
DTSTAMP:20260420T071820
CREATED:20260326T033204Z
LAST-MODIFIED:20260326T033204Z
UID:10012505-1784883600-1784894400@skyhawkseastbay.com
SUMMARY:Albany Basketball Camp (Half-Day: Skills)
DESCRIPTION:Albany Basketball Camp (Half-Day: Skills) \n\nDates: M-F (7/20/26-7/24/26)\n# of Days: 5\nTime: 9:00am-12:00pm\nAges: 6-13\nLocation: Albany High School Gym\, Albany\nPrice: $270\n\nDevelop the skills and confidence to advance in your basketball journey.  Our enthusiastic staff and specialized curriculum allow young athletes to learn and grow through play\, with lots of encouragement and a strong emphasis on fun. Campers are grouped by age to participate in a series of interactive drills\, skill-development games\, and Skyhawks original competitions.  By adding just the right amount of friendly competition\, our instruction extends beyond the court\, teaching vital life lessons for both sports and life\, including respect\, teamwork\, sportsmanship\, integrity\, leadership\, and self-esteem. Your child will leave this camp with new friends\, new skills\, and a new passion for basketball.  Our development objectives include dribbling\, passing\, shooting\, and rebounding.  Interested in scrimmaging? Sign up for our Full-Day Camp option\, which combines an afternoon of competitive scrimmage with our renowned half-day instructional camp.
URL:https://skyhawkseastbay.com/event/albany-basketball-camp-half-day-skills/2026-07-24/
LOCATION:Albany High School Gym\, 603 Key Rte Blvd\, Albany\, 94706\, United States
CATEGORIES:Basketball
ATTACH;FMTTYPE=image/png:https://skyhawkseastbay.com/wp-content/uploads/2025/07/1.png
GEO:37.8963039;-122.2921754
X-APPLE-STRUCTURED-LOCATION;VALUE=URI;X-ADDRESS=Albany High School Gym 603 Key Rte Blvd Albany 94706 United States;X-APPLE-RADIUS=500;X-TITLE=603 Key Rte Blvd:geo:-122.2921754,37.8963039
END:VEVENT
END:VCALENDAR