BEGIN:VCALENDAR
VERSION:2.0
PRODID:-//skyhawkseastbay.com - ECPv6.15.20//NONSGML v1.0//EN
CALSCALE:GREGORIAN
METHOD:PUBLISH
X-WR-CALNAME:skyhawkseastbay.com
X-ORIGINAL-URL:https://skyhawkseastbay.com
X-WR-CALDESC:Events for skyhawkseastbay.com
REFRESH-INTERVAL;VALUE=DURATION:PT1H
X-Robots-Tag:noindex
X-PUBLISHED-TTL:PT1H
BEGIN:VTIMEZONE
TZID:America/Los_Angeles
BEGIN:DAYLIGHT
TZOFFSETFROM:-0800
TZOFFSETTO:-0700
TZNAME:PDT
DTSTART:20250309T100000
END:DAYLIGHT
BEGIN:STANDARD
TZOFFSETFROM:-0700
TZOFFSETTO:-0800
TZNAME:PST
DTSTART:20251102T090000
END:STANDARD
BEGIN:DAYLIGHT
TZOFFSETFROM:-0800
TZOFFSETTO:-0700
TZNAME:PDT
DTSTART:20260308T100000
END:DAYLIGHT
BEGIN:STANDARD
TZOFFSETFROM:-0700
TZOFFSETTO:-0800
TZNAME:PST
DTSTART:20261101T090000
END:STANDARD
BEGIN:DAYLIGHT
TZOFFSETFROM:-0800
TZOFFSETTO:-0700
TZNAME:PDT
DTSTART:20270314T100000
END:DAYLIGHT
BEGIN:STANDARD
TZOFFSETFROM:-0700
TZOFFSETTO:-0800
TZNAME:PST
DTSTART:20271107T090000
END:STANDARD
END:VTIMEZONE
BEGIN:VEVENT
DTSTART;TZID=America/Los_Angeles:20260727T090000
DTEND;TZID=America/Los_Angeles:20260727T120000
DTSTAMP:20260420T054420
CREATED:20260321T210329Z
LAST-MODIFIED:20260321T210329Z
UID:10012159-1785142800-1785153600@skyhawkseastbay.com
SUMMARY:Piedmont Flag Football Camp (Half-Day: Skills)
DESCRIPTION:Piedmont Flag Football Camp (Half-Day: Skills) \n\nDates: Monday – Friday (7/27/26-7/31/26)\n# of Days: 5\nTime: 9:00am-12:00pm\nAges: 5-9\nBeach Playfield\, Piedmont\n\nThis camp is designed for beginning to intermediate players and aims to provide campers with the skills and confidence to advance in their football journey. Our enthusiastic staff and specialized curriculum allow young athletes to learn and grow through play\, with lots of encouragement and a strong emphasis on fun. \nCampers are grouped by age to participate in a series of interactive drills\, skill-development games\, and Skyhawks original competitions.  By adding just the right amount of friendly competition\, our instruction extends beyond the field\, teaching vital life lessons for both sports and life\, including respect\, teamwork\, sportsmanship\, integrity\, leadership\, and self-esteem. Your child will leave this camp with new friends\, new skills\, and a new passion for Football. \nOur development objectives include passing\, rushing\, catching\, route running\, route combinations\, and flag pulling. \nInterested in scrimmaging? Sign up for our Full-Day Camp option\, which combines an afternoon of competitive scrimmage with our renowned half-day instructional camp.
URL:https://skyhawkseastbay.com/event/piedmont-flag-football-camp-half-day-skills-2/2026-07-27/
LOCATION:Beach PlayField\, 333 Linda Avenue\, Piedmont\, 94611\, United States
CATEGORIES:Flag Football
ATTACH;FMTTYPE=image/png:https://skyhawkseastbay.com/wp-content/uploads/2025/07/14.png
GEO:37.8223582;-122.2459352
X-APPLE-STRUCTURED-LOCATION;VALUE=URI;X-ADDRESS=Beach PlayField 333 Linda Avenue Piedmont 94611 United States;X-APPLE-RADIUS=500;X-TITLE=333 Linda Avenue:geo:-122.2459352,37.8223582
END:VEVENT
BEGIN:VEVENT
DTSTART;TZID=America/Los_Angeles:20260728T090000
DTEND;TZID=America/Los_Angeles:20260728T120000
DTSTAMP:20260420T054420
CREATED:20260321T210329Z
LAST-MODIFIED:20260321T210329Z
UID:10012160-1785229200-1785240000@skyhawkseastbay.com
SUMMARY:Piedmont Flag Football Camp (Half-Day: Skills)
DESCRIPTION:Piedmont Flag Football Camp (Half-Day: Skills) \n\nDates: Monday – Friday (7/27/26-7/31/26)\n# of Days: 5\nTime: 9:00am-12:00pm\nAges: 5-9\nBeach Playfield\, Piedmont\n\nThis camp is designed for beginning to intermediate players and aims to provide campers with the skills and confidence to advance in their football journey. Our enthusiastic staff and specialized curriculum allow young athletes to learn and grow through play\, with lots of encouragement and a strong emphasis on fun. \nCampers are grouped by age to participate in a series of interactive drills\, skill-development games\, and Skyhawks original competitions.  By adding just the right amount of friendly competition\, our instruction extends beyond the field\, teaching vital life lessons for both sports and life\, including respect\, teamwork\, sportsmanship\, integrity\, leadership\, and self-esteem. Your child will leave this camp with new friends\, new skills\, and a new passion for Football. \nOur development objectives include passing\, rushing\, catching\, route running\, route combinations\, and flag pulling. \nInterested in scrimmaging? Sign up for our Full-Day Camp option\, which combines an afternoon of competitive scrimmage with our renowned half-day instructional camp.
URL:https://skyhawkseastbay.com/event/piedmont-flag-football-camp-half-day-skills-2/2026-07-28/
LOCATION:Beach PlayField\, 333 Linda Avenue\, Piedmont\, 94611\, United States
CATEGORIES:Flag Football
ATTACH;FMTTYPE=image/png:https://skyhawkseastbay.com/wp-content/uploads/2025/07/14.png
GEO:37.8223582;-122.2459352
X-APPLE-STRUCTURED-LOCATION;VALUE=URI;X-ADDRESS=Beach PlayField 333 Linda Avenue Piedmont 94611 United States;X-APPLE-RADIUS=500;X-TITLE=333 Linda Avenue:geo:-122.2459352,37.8223582
END:VEVENT
BEGIN:VEVENT
DTSTART;TZID=America/Los_Angeles:20260729T090000
DTEND;TZID=America/Los_Angeles:20260729T120000
DTSTAMP:20260420T054420
CREATED:20260321T210329Z
LAST-MODIFIED:20260321T210329Z
UID:10012161-1785315600-1785326400@skyhawkseastbay.com
SUMMARY:Piedmont Flag Football Camp (Half-Day: Skills)
DESCRIPTION:Piedmont Flag Football Camp (Half-Day: Skills) \n\nDates: Monday – Friday (7/27/26-7/31/26)\n# of Days: 5\nTime: 9:00am-12:00pm\nAges: 5-9\nBeach Playfield\, Piedmont\n\nThis camp is designed for beginning to intermediate players and aims to provide campers with the skills and confidence to advance in their football journey. Our enthusiastic staff and specialized curriculum allow young athletes to learn and grow through play\, with lots of encouragement and a strong emphasis on fun. \nCampers are grouped by age to participate in a series of interactive drills\, skill-development games\, and Skyhawks original competitions.  By adding just the right amount of friendly competition\, our instruction extends beyond the field\, teaching vital life lessons for both sports and life\, including respect\, teamwork\, sportsmanship\, integrity\, leadership\, and self-esteem. Your child will leave this camp with new friends\, new skills\, and a new passion for Football. \nOur development objectives include passing\, rushing\, catching\, route running\, route combinations\, and flag pulling. \nInterested in scrimmaging? Sign up for our Full-Day Camp option\, which combines an afternoon of competitive scrimmage with our renowned half-day instructional camp.
URL:https://skyhawkseastbay.com/event/piedmont-flag-football-camp-half-day-skills-2/2026-07-29/
LOCATION:Beach PlayField\, 333 Linda Avenue\, Piedmont\, 94611\, United States
CATEGORIES:Flag Football
ATTACH;FMTTYPE=image/png:https://skyhawkseastbay.com/wp-content/uploads/2025/07/14.png
GEO:37.8223582;-122.2459352
X-APPLE-STRUCTURED-LOCATION;VALUE=URI;X-ADDRESS=Beach PlayField 333 Linda Avenue Piedmont 94611 United States;X-APPLE-RADIUS=500;X-TITLE=333 Linda Avenue:geo:-122.2459352,37.8223582
END:VEVENT
BEGIN:VEVENT
DTSTART;TZID=America/Los_Angeles:20260730T090000
DTEND;TZID=America/Los_Angeles:20260730T120000
DTSTAMP:20260420T054420
CREATED:20260321T210329Z
LAST-MODIFIED:20260321T210329Z
UID:10012162-1785402000-1785412800@skyhawkseastbay.com
SUMMARY:Piedmont Flag Football Camp (Half-Day: Skills)
DESCRIPTION:Piedmont Flag Football Camp (Half-Day: Skills) \n\nDates: Monday – Friday (7/27/26-7/31/26)\n# of Days: 5\nTime: 9:00am-12:00pm\nAges: 5-9\nBeach Playfield\, Piedmont\n\nThis camp is designed for beginning to intermediate players and aims to provide campers with the skills and confidence to advance in their football journey. Our enthusiastic staff and specialized curriculum allow young athletes to learn and grow through play\, with lots of encouragement and a strong emphasis on fun. \nCampers are grouped by age to participate in a series of interactive drills\, skill-development games\, and Skyhawks original competitions.  By adding just the right amount of friendly competition\, our instruction extends beyond the field\, teaching vital life lessons for both sports and life\, including respect\, teamwork\, sportsmanship\, integrity\, leadership\, and self-esteem. Your child will leave this camp with new friends\, new skills\, and a new passion for Football. \nOur development objectives include passing\, rushing\, catching\, route running\, route combinations\, and flag pulling. \nInterested in scrimmaging? Sign up for our Full-Day Camp option\, which combines an afternoon of competitive scrimmage with our renowned half-day instructional camp.
URL:https://skyhawkseastbay.com/event/piedmont-flag-football-camp-half-day-skills-2/2026-07-30/
LOCATION:Beach PlayField\, 333 Linda Avenue\, Piedmont\, 94611\, United States
CATEGORIES:Flag Football
ATTACH;FMTTYPE=image/png:https://skyhawkseastbay.com/wp-content/uploads/2025/07/14.png
GEO:37.8223582;-122.2459352
X-APPLE-STRUCTURED-LOCATION;VALUE=URI;X-ADDRESS=Beach PlayField 333 Linda Avenue Piedmont 94611 United States;X-APPLE-RADIUS=500;X-TITLE=333 Linda Avenue:geo:-122.2459352,37.8223582
END:VEVENT
BEGIN:VEVENT
DTSTART;TZID=America/Los_Angeles:20260731T090000
DTEND;TZID=America/Los_Angeles:20260731T120000
DTSTAMP:20260420T054420
CREATED:20260321T210329Z
LAST-MODIFIED:20260321T210329Z
UID:10012163-1785488400-1785499200@skyhawkseastbay.com
SUMMARY:Piedmont Flag Football Camp (Half-Day: Skills)
DESCRIPTION:Piedmont Flag Football Camp (Half-Day: Skills) \n\nDates: Monday – Friday (7/27/26-7/31/26)\n# of Days: 5\nTime: 9:00am-12:00pm\nAges: 5-9\nBeach Playfield\, Piedmont\n\nThis camp is designed for beginning to intermediate players and aims to provide campers with the skills and confidence to advance in their football journey. Our enthusiastic staff and specialized curriculum allow young athletes to learn and grow through play\, with lots of encouragement and a strong emphasis on fun. \nCampers are grouped by age to participate in a series of interactive drills\, skill-development games\, and Skyhawks original competitions.  By adding just the right amount of friendly competition\, our instruction extends beyond the field\, teaching vital life lessons for both sports and life\, including respect\, teamwork\, sportsmanship\, integrity\, leadership\, and self-esteem. Your child will leave this camp with new friends\, new skills\, and a new passion for Football. \nOur development objectives include passing\, rushing\, catching\, route running\, route combinations\, and flag pulling. \nInterested in scrimmaging? Sign up for our Full-Day Camp option\, which combines an afternoon of competitive scrimmage with our renowned half-day instructional camp.
URL:https://skyhawkseastbay.com/event/piedmont-flag-football-camp-half-day-skills-2/2026-07-31/
LOCATION:Beach PlayField\, 333 Linda Avenue\, Piedmont\, 94611\, United States
CATEGORIES:Flag Football
ATTACH;FMTTYPE=image/png:https://skyhawkseastbay.com/wp-content/uploads/2025/07/14.png
GEO:37.8223582;-122.2459352
X-APPLE-STRUCTURED-LOCATION;VALUE=URI;X-ADDRESS=Beach PlayField 333 Linda Avenue Piedmont 94611 United States;X-APPLE-RADIUS=500;X-TITLE=333 Linda Avenue:geo:-122.2459352,37.8223582
END:VEVENT
END:VCALENDAR