BEGIN:VCALENDAR
VERSION:2.0
PRODID:-//skyhawkseastbay.com - ECPv6.15.20//NONSGML v1.0//EN
CALSCALE:GREGORIAN
METHOD:PUBLISH
X-WR-CALNAME:skyhawkseastbay.com
X-ORIGINAL-URL:https://skyhawkseastbay.com
X-WR-CALDESC:Events for skyhawkseastbay.com
REFRESH-INTERVAL;VALUE=DURATION:PT1H
X-Robots-Tag:noindex
X-PUBLISHED-TTL:PT1H
BEGIN:VTIMEZONE
TZID:America/Los_Angeles
BEGIN:DAYLIGHT
TZOFFSETFROM:-0800
TZOFFSETTO:-0700
TZNAME:PDT
DTSTART:20250309T100000
END:DAYLIGHT
BEGIN:STANDARD
TZOFFSETFROM:-0700
TZOFFSETTO:-0800
TZNAME:PST
DTSTART:20251102T090000
END:STANDARD
BEGIN:DAYLIGHT
TZOFFSETFROM:-0800
TZOFFSETTO:-0700
TZNAME:PDT
DTSTART:20260308T100000
END:DAYLIGHT
BEGIN:STANDARD
TZOFFSETFROM:-0700
TZOFFSETTO:-0800
TZNAME:PST
DTSTART:20261101T090000
END:STANDARD
BEGIN:DAYLIGHT
TZOFFSETFROM:-0800
TZOFFSETTO:-0700
TZNAME:PDT
DTSTART:20270314T100000
END:DAYLIGHT
BEGIN:STANDARD
TZOFFSETFROM:-0700
TZOFFSETTO:-0800
TZNAME:PST
DTSTART:20271107T090000
END:STANDARD
END:VTIMEZONE
BEGIN:VEVENT
DTSTART;TZID=America/Los_Angeles:20260720T143000
DTEND;TZID=America/Los_Angeles:20260720T163000
DTSTAMP:20260420T054539
CREATED:20260321T040512Z
LAST-MODIFIED:20260321T040512Z
UID:10012081-1784557800-1784565000@skyhawkseastbay.com
SUMMARY:Orinda Volleyball Camp
DESCRIPTION:Orinda Volleyball Camp \n\nDates: M-Th (7/20/26-7/23/26)\n# of Classes: 4\nTime: 2:30pm-4:30pm\nAges: 6-11\nLocation: Wilder Field Art & Garden Center\, Orinda\nPrice: $160\n\nLearning the fundamentals of volleyball has never been so much FUN! Our engaging curriculum and age-appropriate equipment make it easy for beginners to jump into the game while building essential skills\, confidence\, and character through the power of play.   Players are grouped by age and ability\, diving into interactive drills\, skill-enhancing games\, and Skyhawks original competitions.  At Skyhawks\, our enthusiastic coaches foster a welcoming atmosphere that encourages skill enhancement\, teamwork\, and the creation of lasting friendships. Your child will leave this program with new skills\, a new passion for volleyball\, and new friends to share the journey with!  Our development objectives include bumping/passing\, setting\, hitting\, serving\, coordination\, balance\, body movement\, leadership\, sportsmanship\, teamwork\, and self-esteem.
URL:https://skyhawkseastbay.com/event/orinda-volleyball-camp/2026-07-20/
LOCATION:Art & Garden Center\, 101 Wilder Rd\, Orinda\, CA\, 94563\, United States
CATEGORIES:Volleyballl
ATTACH;FMTTYPE=image/png:https://skyhawkseastbay.com/wp-content/uploads/2025/07/9.png
GEO:37.8662629;-122.1926969
X-APPLE-STRUCTURED-LOCATION;VALUE=URI;X-ADDRESS=Art & Garden Center 101 Wilder Rd Orinda CA 94563 United States;X-APPLE-RADIUS=500;X-TITLE=101 Wilder Rd:geo:-122.1926969,37.8662629
END:VEVENT
BEGIN:VEVENT
DTSTART;TZID=America/Los_Angeles:20260721T143000
DTEND;TZID=America/Los_Angeles:20260721T163000
DTSTAMP:20260420T054539
CREATED:20260321T040512Z
LAST-MODIFIED:20260321T040512Z
UID:10012082-1784644200-1784651400@skyhawkseastbay.com
SUMMARY:Orinda Volleyball Camp
DESCRIPTION:Orinda Volleyball Camp \n\nDates: M-Th (7/20/26-7/23/26)\n# of Classes: 4\nTime: 2:30pm-4:30pm\nAges: 6-11\nLocation: Wilder Field Art & Garden Center\, Orinda\nPrice: $160\n\nLearning the fundamentals of volleyball has never been so much FUN! Our engaging curriculum and age-appropriate equipment make it easy for beginners to jump into the game while building essential skills\, confidence\, and character through the power of play.   Players are grouped by age and ability\, diving into interactive drills\, skill-enhancing games\, and Skyhawks original competitions.  At Skyhawks\, our enthusiastic coaches foster a welcoming atmosphere that encourages skill enhancement\, teamwork\, and the creation of lasting friendships. Your child will leave this program with new skills\, a new passion for volleyball\, and new friends to share the journey with!  Our development objectives include bumping/passing\, setting\, hitting\, serving\, coordination\, balance\, body movement\, leadership\, sportsmanship\, teamwork\, and self-esteem.
URL:https://skyhawkseastbay.com/event/orinda-volleyball-camp/2026-07-21/
LOCATION:Art & Garden Center\, 101 Wilder Rd\, Orinda\, CA\, 94563\, United States
CATEGORIES:Volleyballl
ATTACH;FMTTYPE=image/png:https://skyhawkseastbay.com/wp-content/uploads/2025/07/9.png
GEO:37.8662629;-122.1926969
X-APPLE-STRUCTURED-LOCATION;VALUE=URI;X-ADDRESS=Art & Garden Center 101 Wilder Rd Orinda CA 94563 United States;X-APPLE-RADIUS=500;X-TITLE=101 Wilder Rd:geo:-122.1926969,37.8662629
END:VEVENT
BEGIN:VEVENT
DTSTART;TZID=America/Los_Angeles:20260722T143000
DTEND;TZID=America/Los_Angeles:20260722T163000
DTSTAMP:20260420T054539
CREATED:20260321T040512Z
LAST-MODIFIED:20260321T040512Z
UID:10012083-1784730600-1784737800@skyhawkseastbay.com
SUMMARY:Orinda Volleyball Camp
DESCRIPTION:Orinda Volleyball Camp \n\nDates: M-Th (7/20/26-7/23/26)\n# of Classes: 4\nTime: 2:30pm-4:30pm\nAges: 6-11\nLocation: Wilder Field Art & Garden Center\, Orinda\nPrice: $160\n\nLearning the fundamentals of volleyball has never been so much FUN! Our engaging curriculum and age-appropriate equipment make it easy for beginners to jump into the game while building essential skills\, confidence\, and character through the power of play.   Players are grouped by age and ability\, diving into interactive drills\, skill-enhancing games\, and Skyhawks original competitions.  At Skyhawks\, our enthusiastic coaches foster a welcoming atmosphere that encourages skill enhancement\, teamwork\, and the creation of lasting friendships. Your child will leave this program with new skills\, a new passion for volleyball\, and new friends to share the journey with!  Our development objectives include bumping/passing\, setting\, hitting\, serving\, coordination\, balance\, body movement\, leadership\, sportsmanship\, teamwork\, and self-esteem.
URL:https://skyhawkseastbay.com/event/orinda-volleyball-camp/2026-07-22/
LOCATION:Art & Garden Center\, 101 Wilder Rd\, Orinda\, CA\, 94563\, United States
CATEGORIES:Volleyballl
ATTACH;FMTTYPE=image/png:https://skyhawkseastbay.com/wp-content/uploads/2025/07/9.png
GEO:37.8662629;-122.1926969
X-APPLE-STRUCTURED-LOCATION;VALUE=URI;X-ADDRESS=Art & Garden Center 101 Wilder Rd Orinda CA 94563 United States;X-APPLE-RADIUS=500;X-TITLE=101 Wilder Rd:geo:-122.1926969,37.8662629
END:VEVENT
BEGIN:VEVENT
DTSTART;TZID=America/Los_Angeles:20260723T143000
DTEND;TZID=America/Los_Angeles:20260723T163000
DTSTAMP:20260420T054539
CREATED:20260321T040512Z
LAST-MODIFIED:20260321T040512Z
UID:10012084-1784817000-1784824200@skyhawkseastbay.com
SUMMARY:Orinda Volleyball Camp
DESCRIPTION:Orinda Volleyball Camp \n\nDates: M-Th (7/20/26-7/23/26)\n# of Classes: 4\nTime: 2:30pm-4:30pm\nAges: 6-11\nLocation: Wilder Field Art & Garden Center\, Orinda\nPrice: $160\n\nLearning the fundamentals of volleyball has never been so much FUN! Our engaging curriculum and age-appropriate equipment make it easy for beginners to jump into the game while building essential skills\, confidence\, and character through the power of play.   Players are grouped by age and ability\, diving into interactive drills\, skill-enhancing games\, and Skyhawks original competitions.  At Skyhawks\, our enthusiastic coaches foster a welcoming atmosphere that encourages skill enhancement\, teamwork\, and the creation of lasting friendships. Your child will leave this program with new skills\, a new passion for volleyball\, and new friends to share the journey with!  Our development objectives include bumping/passing\, setting\, hitting\, serving\, coordination\, balance\, body movement\, leadership\, sportsmanship\, teamwork\, and self-esteem.
URL:https://skyhawkseastbay.com/event/orinda-volleyball-camp/2026-07-23/
LOCATION:Art & Garden Center\, 101 Wilder Rd\, Orinda\, CA\, 94563\, United States
CATEGORIES:Volleyballl
ATTACH;FMTTYPE=image/png:https://skyhawkseastbay.com/wp-content/uploads/2025/07/9.png
GEO:37.8662629;-122.1926969
X-APPLE-STRUCTURED-LOCATION;VALUE=URI;X-ADDRESS=Art & Garden Center 101 Wilder Rd Orinda CA 94563 United States;X-APPLE-RADIUS=500;X-TITLE=101 Wilder Rd:geo:-122.1926969,37.8662629
END:VEVENT
END:VCALENDAR