BEGIN:VCALENDAR
VERSION:2.0
PRODID:-//skyhawkseastbay.com - ECPv6.15.20//NONSGML v1.0//EN
CALSCALE:GREGORIAN
METHOD:PUBLISH
X-WR-CALNAME:skyhawkseastbay.com
X-ORIGINAL-URL:https://skyhawkseastbay.com
X-WR-CALDESC:Events for skyhawkseastbay.com
REFRESH-INTERVAL;VALUE=DURATION:PT1H
X-Robots-Tag:noindex
X-PUBLISHED-TTL:PT1H
BEGIN:VTIMEZONE
TZID:America/Los_Angeles
BEGIN:DAYLIGHT
TZOFFSETFROM:-0800
TZOFFSETTO:-0700
TZNAME:PDT
DTSTART:20250309T100000
END:DAYLIGHT
BEGIN:STANDARD
TZOFFSETFROM:-0700
TZOFFSETTO:-0800
TZNAME:PST
DTSTART:20251102T090000
END:STANDARD
BEGIN:DAYLIGHT
TZOFFSETFROM:-0800
TZOFFSETTO:-0700
TZNAME:PDT
DTSTART:20260308T100000
END:DAYLIGHT
BEGIN:STANDARD
TZOFFSETFROM:-0700
TZOFFSETTO:-0800
TZNAME:PST
DTSTART:20261101T090000
END:STANDARD
BEGIN:DAYLIGHT
TZOFFSETFROM:-0800
TZOFFSETTO:-0700
TZNAME:PDT
DTSTART:20270314T100000
END:DAYLIGHT
BEGIN:STANDARD
TZOFFSETFROM:-0700
TZOFFSETTO:-0800
TZNAME:PST
DTSTART:20271107T090000
END:STANDARD
END:VTIMEZONE
BEGIN:VEVENT
DTSTART;TZID=America/Los_Angeles:20260421T183000
DTEND;TZID=America/Los_Angeles:20260421T193000
DTSTAMP:20260420T043310
CREATED:20251222T052506Z
LAST-MODIFIED:20251222T052506Z
UID:10011766-1776796200-1776799800@skyhawkseastbay.com
SUMMARY:Albany Volleyball Clinic (Fun & Fundamentals)
DESCRIPTION:Albany Volleyball Clinic (Fun & Fundamentals) \n\nDates: Tuesdays (4/14/26-5/19/26)\nNo Class Dates: N/A\n# of Weeks: 6\nTime: 6:30pm-7:30pm\nAges: 6-10\nLocation: Ocean View Elementary MPR\nSeason: Winter/Spring Session 3\n\nLearning the fundamentals of volleyball has never been so much FUN! Our engaging curriculum and age-appropriate equipment make it easy for beginners to jump into the game while building essential skills\, confidence\, and character through the power of play. At Skyhawks\, our enthusiastic coaches foster a welcoming atmosphere that encourages skill enhancement\, teamwork\, and the creation of lasting friendships. Your child will leave this program with new skills\, a new passion for volleyball\, and new friends to share the journey with! Our development objectives include bumping/passing\, setting\, hitting\, serving\, coordination\, balance\, body movement\, leadership\, sportsmanship\, teamwork\, and self-esteem
URL:https://skyhawkseastbay.com/event/albany-volleyball-clinic-fun-fundamentals-3/2026-04-21/
LOCATION:Ocean View Elementary MPR\, 1000 Jackson Street\, Albany\, 94706\, United States
CATEGORIES:Volleyballl
ATTACH;FMTTYPE=image/png:https://skyhawkseastbay.com/wp-content/uploads/2025/07/9.png
GEO:37.8866516;-122.3014264
X-APPLE-STRUCTURED-LOCATION;VALUE=URI;X-ADDRESS=Ocean View Elementary MPR 1000 Jackson Street Albany 94706 United States;X-APPLE-RADIUS=500;X-TITLE=1000 Jackson Street:geo:-122.3014264,37.8866516
END:VEVENT
BEGIN:VEVENT
DTSTART;TZID=America/Los_Angeles:20260428T183000
DTEND;TZID=America/Los_Angeles:20260428T193000
DTSTAMP:20260420T043310
CREATED:20251222T052506Z
LAST-MODIFIED:20251222T052506Z
UID:10011767-1777401000-1777404600@skyhawkseastbay.com
SUMMARY:Albany Volleyball Clinic (Fun & Fundamentals)
DESCRIPTION:Albany Volleyball Clinic (Fun & Fundamentals) \n\nDates: Tuesdays (4/14/26-5/19/26)\nNo Class Dates: N/A\n# of Weeks: 6\nTime: 6:30pm-7:30pm\nAges: 6-10\nLocation: Ocean View Elementary MPR\nSeason: Winter/Spring Session 3\n\nLearning the fundamentals of volleyball has never been so much FUN! Our engaging curriculum and age-appropriate equipment make it easy for beginners to jump into the game while building essential skills\, confidence\, and character through the power of play. At Skyhawks\, our enthusiastic coaches foster a welcoming atmosphere that encourages skill enhancement\, teamwork\, and the creation of lasting friendships. Your child will leave this program with new skills\, a new passion for volleyball\, and new friends to share the journey with! Our development objectives include bumping/passing\, setting\, hitting\, serving\, coordination\, balance\, body movement\, leadership\, sportsmanship\, teamwork\, and self-esteem
URL:https://skyhawkseastbay.com/event/albany-volleyball-clinic-fun-fundamentals-3/2026-04-28/
LOCATION:Ocean View Elementary MPR\, 1000 Jackson Street\, Albany\, 94706\, United States
CATEGORIES:Volleyballl
ATTACH;FMTTYPE=image/png:https://skyhawkseastbay.com/wp-content/uploads/2025/07/9.png
GEO:37.8866516;-122.3014264
X-APPLE-STRUCTURED-LOCATION;VALUE=URI;X-ADDRESS=Ocean View Elementary MPR 1000 Jackson Street Albany 94706 United States;X-APPLE-RADIUS=500;X-TITLE=1000 Jackson Street:geo:-122.3014264,37.8866516
END:VEVENT
BEGIN:VEVENT
DTSTART;TZID=America/Los_Angeles:20260505T183000
DTEND;TZID=America/Los_Angeles:20260505T193000
DTSTAMP:20260420T043310
CREATED:20251222T052506Z
LAST-MODIFIED:20251222T052506Z
UID:10011768-1778005800-1778009400@skyhawkseastbay.com
SUMMARY:Albany Volleyball Clinic (Fun & Fundamentals)
DESCRIPTION:Albany Volleyball Clinic (Fun & Fundamentals) \n\nDates: Tuesdays (4/14/26-5/19/26)\nNo Class Dates: N/A\n# of Weeks: 6\nTime: 6:30pm-7:30pm\nAges: 6-10\nLocation: Ocean View Elementary MPR\nSeason: Winter/Spring Session 3\n\nLearning the fundamentals of volleyball has never been so much FUN! Our engaging curriculum and age-appropriate equipment make it easy for beginners to jump into the game while building essential skills\, confidence\, and character through the power of play. At Skyhawks\, our enthusiastic coaches foster a welcoming atmosphere that encourages skill enhancement\, teamwork\, and the creation of lasting friendships. Your child will leave this program with new skills\, a new passion for volleyball\, and new friends to share the journey with! Our development objectives include bumping/passing\, setting\, hitting\, serving\, coordination\, balance\, body movement\, leadership\, sportsmanship\, teamwork\, and self-esteem
URL:https://skyhawkseastbay.com/event/albany-volleyball-clinic-fun-fundamentals-3/2026-05-05/
LOCATION:Ocean View Elementary MPR\, 1000 Jackson Street\, Albany\, 94706\, United States
CATEGORIES:Volleyballl
ATTACH;FMTTYPE=image/png:https://skyhawkseastbay.com/wp-content/uploads/2025/07/9.png
GEO:37.8866516;-122.3014264
X-APPLE-STRUCTURED-LOCATION;VALUE=URI;X-ADDRESS=Ocean View Elementary MPR 1000 Jackson Street Albany 94706 United States;X-APPLE-RADIUS=500;X-TITLE=1000 Jackson Street:geo:-122.3014264,37.8866516
END:VEVENT
BEGIN:VEVENT
DTSTART;TZID=America/Los_Angeles:20260512T183000
DTEND;TZID=America/Los_Angeles:20260512T193000
DTSTAMP:20260420T043310
CREATED:20251222T052506Z
LAST-MODIFIED:20251222T052506Z
UID:10011769-1778610600-1778614200@skyhawkseastbay.com
SUMMARY:Albany Volleyball Clinic (Fun & Fundamentals)
DESCRIPTION:Albany Volleyball Clinic (Fun & Fundamentals) \n\nDates: Tuesdays (4/14/26-5/19/26)\nNo Class Dates: N/A\n# of Weeks: 6\nTime: 6:30pm-7:30pm\nAges: 6-10\nLocation: Ocean View Elementary MPR\nSeason: Winter/Spring Session 3\n\nLearning the fundamentals of volleyball has never been so much FUN! Our engaging curriculum and age-appropriate equipment make it easy for beginners to jump into the game while building essential skills\, confidence\, and character through the power of play. At Skyhawks\, our enthusiastic coaches foster a welcoming atmosphere that encourages skill enhancement\, teamwork\, and the creation of lasting friendships. Your child will leave this program with new skills\, a new passion for volleyball\, and new friends to share the journey with! Our development objectives include bumping/passing\, setting\, hitting\, serving\, coordination\, balance\, body movement\, leadership\, sportsmanship\, teamwork\, and self-esteem
URL:https://skyhawkseastbay.com/event/albany-volleyball-clinic-fun-fundamentals-3/2026-05-12/
LOCATION:Ocean View Elementary MPR\, 1000 Jackson Street\, Albany\, 94706\, United States
CATEGORIES:Volleyballl
ATTACH;FMTTYPE=image/png:https://skyhawkseastbay.com/wp-content/uploads/2025/07/9.png
GEO:37.8866516;-122.3014264
X-APPLE-STRUCTURED-LOCATION;VALUE=URI;X-ADDRESS=Ocean View Elementary MPR 1000 Jackson Street Albany 94706 United States;X-APPLE-RADIUS=500;X-TITLE=1000 Jackson Street:geo:-122.3014264,37.8866516
END:VEVENT
BEGIN:VEVENT
DTSTART;TZID=America/Los_Angeles:20260519T183000
DTEND;TZID=America/Los_Angeles:20260519T193000
DTSTAMP:20260420T043310
CREATED:20251222T052506Z
LAST-MODIFIED:20251222T052506Z
UID:10011770-1779215400-1779219000@skyhawkseastbay.com
SUMMARY:Albany Volleyball Clinic (Fun & Fundamentals)
DESCRIPTION:Albany Volleyball Clinic (Fun & Fundamentals) \n\nDates: Tuesdays (4/14/26-5/19/26)\nNo Class Dates: N/A\n# of Weeks: 6\nTime: 6:30pm-7:30pm\nAges: 6-10\nLocation: Ocean View Elementary MPR\nSeason: Winter/Spring Session 3\n\nLearning the fundamentals of volleyball has never been so much FUN! Our engaging curriculum and age-appropriate equipment make it easy for beginners to jump into the game while building essential skills\, confidence\, and character through the power of play. At Skyhawks\, our enthusiastic coaches foster a welcoming atmosphere that encourages skill enhancement\, teamwork\, and the creation of lasting friendships. Your child will leave this program with new skills\, a new passion for volleyball\, and new friends to share the journey with! Our development objectives include bumping/passing\, setting\, hitting\, serving\, coordination\, balance\, body movement\, leadership\, sportsmanship\, teamwork\, and self-esteem
URL:https://skyhawkseastbay.com/event/albany-volleyball-clinic-fun-fundamentals-3/2026-05-19/
LOCATION:Ocean View Elementary MPR\, 1000 Jackson Street\, Albany\, 94706\, United States
CATEGORIES:Volleyballl
ATTACH;FMTTYPE=image/png:https://skyhawkseastbay.com/wp-content/uploads/2025/07/9.png
GEO:37.8866516;-122.3014264
X-APPLE-STRUCTURED-LOCATION;VALUE=URI;X-ADDRESS=Ocean View Elementary MPR 1000 Jackson Street Albany 94706 United States;X-APPLE-RADIUS=500;X-TITLE=1000 Jackson Street:geo:-122.3014264,37.8866516
END:VEVENT
END:VCALENDAR