BEGIN:VCALENDAR
VERSION:2.0
PRODID:-//skyhawkseastbay.com - ECPv6.15.20//NONSGML v1.0//EN
CALSCALE:GREGORIAN
METHOD:PUBLISH
X-WR-CALNAME:skyhawkseastbay.com
X-ORIGINAL-URL:https://skyhawkseastbay.com
X-WR-CALDESC:Events for skyhawkseastbay.com
REFRESH-INTERVAL;VALUE=DURATION:PT1H
X-Robots-Tag:noindex
X-PUBLISHED-TTL:PT1H
BEGIN:VTIMEZONE
TZID:America/Los_Angeles
BEGIN:DAYLIGHT
TZOFFSETFROM:-0800
TZOFFSETTO:-0700
TZNAME:PDT
DTSTART:20250309T100000
END:DAYLIGHT
BEGIN:STANDARD
TZOFFSETFROM:-0700
TZOFFSETTO:-0800
TZNAME:PST
DTSTART:20251102T090000
END:STANDARD
BEGIN:DAYLIGHT
TZOFFSETFROM:-0800
TZOFFSETTO:-0700
TZNAME:PDT
DTSTART:20260308T100000
END:DAYLIGHT
BEGIN:STANDARD
TZOFFSETFROM:-0700
TZOFFSETTO:-0800
TZNAME:PST
DTSTART:20261101T090000
END:STANDARD
BEGIN:DAYLIGHT
TZOFFSETFROM:-0800
TZOFFSETTO:-0700
TZNAME:PDT
DTSTART:20270314T100000
END:DAYLIGHT
BEGIN:STANDARD
TZOFFSETFROM:-0700
TZOFFSETTO:-0800
TZNAME:PST
DTSTART:20271107T090000
END:STANDARD
END:VTIMEZONE
BEGIN:VEVENT
DTSTART;TZID=America/Los_Angeles:20260727T090000
DTEND;TZID=America/Los_Angeles:20260727T120000
DTSTAMP:20260423T122827
CREATED:20260317T031023Z
LAST-MODIFIED:20260317T031023Z
UID:10011924-1785142800-1785153600@skyhawkseastbay.com
SUMMARY:Pleasant Hill Volleyball Camp
DESCRIPTION:Pleasant Hill Volleyball Camp \n\nDates: M-F (7/27/26-7/31/26)\n# of Classes: 5\nTime: 9:00am-12:00pm\nAges: 7-12\nLocation: Pleasant Hill Park\nPrice: $275\n\nGet ready to elevate your volleyball game! This action-packed clinic is perfect for young athletes eager to sharpen their skills and boost their confidence on the court. Our passionate staff and innovative curriculum create an electrifying atmosphere where young athletes learn and grow through the power of play.  Players are grouped by age and ability\, diving into interactive drills\, skill-enhancing short-sided games\, and organized scrimmages.  With just the right dose of friendly competition\, our instruction goes beyond the court\, instilling essential life lessons in respect\, teamwork\, sportsmanship\, integrity\, and leadership. Our development objectives include bumping/passing\, setting\, hitting\, serving\, and 4-2 positions and rotations.  So\, bring your friends or come ready to make new ones—it’s time for an unforgettable experience that promises to inspire and empower every player!
URL:https://skyhawkseastbay.com/event/pleasant-hill-volleyball-camp/2026-07-27/
LOCATION:Pleasant Hill Park\, 147 Gregory Lane\, Pleasant Hill\, CA\, 94523\, United States
CATEGORIES:Volleyballl
ATTACH;FMTTYPE=image/png:https://skyhawkseastbay.com/wp-content/uploads/2025/07/9.png
GEO:37.9483278;-122.0656551
X-APPLE-STRUCTURED-LOCATION;VALUE=URI;X-ADDRESS=Pleasant Hill Park 147 Gregory Lane Pleasant Hill CA 94523 United States;X-APPLE-RADIUS=500;X-TITLE=147 Gregory Lane:geo:-122.0656551,37.9483278
END:VEVENT
BEGIN:VEVENT
DTSTART;TZID=America/Los_Angeles:20260728T090000
DTEND;TZID=America/Los_Angeles:20260728T120000
DTSTAMP:20260423T122828
CREATED:20260317T031023Z
LAST-MODIFIED:20260317T031023Z
UID:10011925-1785229200-1785240000@skyhawkseastbay.com
SUMMARY:Pleasant Hill Volleyball Camp
DESCRIPTION:Pleasant Hill Volleyball Camp \n\nDates: M-F (7/27/26-7/31/26)\n# of Classes: 5\nTime: 9:00am-12:00pm\nAges: 7-12\nLocation: Pleasant Hill Park\nPrice: $275\n\nGet ready to elevate your volleyball game! This action-packed clinic is perfect for young athletes eager to sharpen their skills and boost their confidence on the court. Our passionate staff and innovative curriculum create an electrifying atmosphere where young athletes learn and grow through the power of play.  Players are grouped by age and ability\, diving into interactive drills\, skill-enhancing short-sided games\, and organized scrimmages.  With just the right dose of friendly competition\, our instruction goes beyond the court\, instilling essential life lessons in respect\, teamwork\, sportsmanship\, integrity\, and leadership. Our development objectives include bumping/passing\, setting\, hitting\, serving\, and 4-2 positions and rotations.  So\, bring your friends or come ready to make new ones—it’s time for an unforgettable experience that promises to inspire and empower every player!
URL:https://skyhawkseastbay.com/event/pleasant-hill-volleyball-camp/2026-07-28/
LOCATION:Pleasant Hill Park\, 147 Gregory Lane\, Pleasant Hill\, CA\, 94523\, United States
CATEGORIES:Volleyballl
ATTACH;FMTTYPE=image/png:https://skyhawkseastbay.com/wp-content/uploads/2025/07/9.png
GEO:37.9483278;-122.0656551
X-APPLE-STRUCTURED-LOCATION;VALUE=URI;X-ADDRESS=Pleasant Hill Park 147 Gregory Lane Pleasant Hill CA 94523 United States;X-APPLE-RADIUS=500;X-TITLE=147 Gregory Lane:geo:-122.0656551,37.9483278
END:VEVENT
BEGIN:VEVENT
DTSTART;TZID=America/Los_Angeles:20260729T090000
DTEND;TZID=America/Los_Angeles:20260729T120000
DTSTAMP:20260423T122828
CREATED:20260317T031023Z
LAST-MODIFIED:20260317T031023Z
UID:10011926-1785315600-1785326400@skyhawkseastbay.com
SUMMARY:Pleasant Hill Volleyball Camp
DESCRIPTION:Pleasant Hill Volleyball Camp \n\nDates: M-F (7/27/26-7/31/26)\n# of Classes: 5\nTime: 9:00am-12:00pm\nAges: 7-12\nLocation: Pleasant Hill Park\nPrice: $275\n\nGet ready to elevate your volleyball game! This action-packed clinic is perfect for young athletes eager to sharpen their skills and boost their confidence on the court. Our passionate staff and innovative curriculum create an electrifying atmosphere where young athletes learn and grow through the power of play.  Players are grouped by age and ability\, diving into interactive drills\, skill-enhancing short-sided games\, and organized scrimmages.  With just the right dose of friendly competition\, our instruction goes beyond the court\, instilling essential life lessons in respect\, teamwork\, sportsmanship\, integrity\, and leadership. Our development objectives include bumping/passing\, setting\, hitting\, serving\, and 4-2 positions and rotations.  So\, bring your friends or come ready to make new ones—it’s time for an unforgettable experience that promises to inspire and empower every player!
URL:https://skyhawkseastbay.com/event/pleasant-hill-volleyball-camp/2026-07-29/
LOCATION:Pleasant Hill Park\, 147 Gregory Lane\, Pleasant Hill\, CA\, 94523\, United States
CATEGORIES:Volleyballl
ATTACH;FMTTYPE=image/png:https://skyhawkseastbay.com/wp-content/uploads/2025/07/9.png
GEO:37.9483278;-122.0656551
X-APPLE-STRUCTURED-LOCATION;VALUE=URI;X-ADDRESS=Pleasant Hill Park 147 Gregory Lane Pleasant Hill CA 94523 United States;X-APPLE-RADIUS=500;X-TITLE=147 Gregory Lane:geo:-122.0656551,37.9483278
END:VEVENT
BEGIN:VEVENT
DTSTART;TZID=America/Los_Angeles:20260730T090000
DTEND;TZID=America/Los_Angeles:20260730T120000
DTSTAMP:20260423T122828
CREATED:20260317T031023Z
LAST-MODIFIED:20260317T031023Z
UID:10011927-1785402000-1785412800@skyhawkseastbay.com
SUMMARY:Pleasant Hill Volleyball Camp
DESCRIPTION:Pleasant Hill Volleyball Camp \n\nDates: M-F (7/27/26-7/31/26)\n# of Classes: 5\nTime: 9:00am-12:00pm\nAges: 7-12\nLocation: Pleasant Hill Park\nPrice: $275\n\nGet ready to elevate your volleyball game! This action-packed clinic is perfect for young athletes eager to sharpen their skills and boost their confidence on the court. Our passionate staff and innovative curriculum create an electrifying atmosphere where young athletes learn and grow through the power of play.  Players are grouped by age and ability\, diving into interactive drills\, skill-enhancing short-sided games\, and organized scrimmages.  With just the right dose of friendly competition\, our instruction goes beyond the court\, instilling essential life lessons in respect\, teamwork\, sportsmanship\, integrity\, and leadership. Our development objectives include bumping/passing\, setting\, hitting\, serving\, and 4-2 positions and rotations.  So\, bring your friends or come ready to make new ones—it’s time for an unforgettable experience that promises to inspire and empower every player!
URL:https://skyhawkseastbay.com/event/pleasant-hill-volleyball-camp/2026-07-30/
LOCATION:Pleasant Hill Park\, 147 Gregory Lane\, Pleasant Hill\, CA\, 94523\, United States
CATEGORIES:Volleyballl
ATTACH;FMTTYPE=image/png:https://skyhawkseastbay.com/wp-content/uploads/2025/07/9.png
GEO:37.9483278;-122.0656551
X-APPLE-STRUCTURED-LOCATION;VALUE=URI;X-ADDRESS=Pleasant Hill Park 147 Gregory Lane Pleasant Hill CA 94523 United States;X-APPLE-RADIUS=500;X-TITLE=147 Gregory Lane:geo:-122.0656551,37.9483278
END:VEVENT
BEGIN:VEVENT
DTSTART;TZID=America/Los_Angeles:20260731T090000
DTEND;TZID=America/Los_Angeles:20260731T120000
DTSTAMP:20260423T122828
CREATED:20260317T031023Z
LAST-MODIFIED:20260317T031023Z
UID:10011928-1785488400-1785499200@skyhawkseastbay.com
SUMMARY:Pleasant Hill Volleyball Camp
DESCRIPTION:Pleasant Hill Volleyball Camp \n\nDates: M-F (7/27/26-7/31/26)\n# of Classes: 5\nTime: 9:00am-12:00pm\nAges: 7-12\nLocation: Pleasant Hill Park\nPrice: $275\n\nGet ready to elevate your volleyball game! This action-packed clinic is perfect for young athletes eager to sharpen their skills and boost their confidence on the court. Our passionate staff and innovative curriculum create an electrifying atmosphere where young athletes learn and grow through the power of play.  Players are grouped by age and ability\, diving into interactive drills\, skill-enhancing short-sided games\, and organized scrimmages.  With just the right dose of friendly competition\, our instruction goes beyond the court\, instilling essential life lessons in respect\, teamwork\, sportsmanship\, integrity\, and leadership. Our development objectives include bumping/passing\, setting\, hitting\, serving\, and 4-2 positions and rotations.  So\, bring your friends or come ready to make new ones—it’s time for an unforgettable experience that promises to inspire and empower every player!
URL:https://skyhawkseastbay.com/event/pleasant-hill-volleyball-camp/2026-07-31/
LOCATION:Pleasant Hill Park\, 147 Gregory Lane\, Pleasant Hill\, CA\, 94523\, United States
CATEGORIES:Volleyballl
ATTACH;FMTTYPE=image/png:https://skyhawkseastbay.com/wp-content/uploads/2025/07/9.png
GEO:37.9483278;-122.0656551
X-APPLE-STRUCTURED-LOCATION;VALUE=URI;X-ADDRESS=Pleasant Hill Park 147 Gregory Lane Pleasant Hill CA 94523 United States;X-APPLE-RADIUS=500;X-TITLE=147 Gregory Lane:geo:-122.0656551,37.9483278
END:VEVENT
END:VCALENDAR