BEGIN:VCALENDAR
VERSION:2.0
PRODID:-//skyhawkseastbay.com - ECPv6.15.20//NONSGML v1.0//EN
CALSCALE:GREGORIAN
METHOD:PUBLISH
X-WR-CALNAME:skyhawkseastbay.com
X-ORIGINAL-URL:https://skyhawkseastbay.com
X-WR-CALDESC:Events for skyhawkseastbay.com
REFRESH-INTERVAL;VALUE=DURATION:PT1H
X-Robots-Tag:noindex
X-PUBLISHED-TTL:PT1H
BEGIN:VTIMEZONE
TZID:America/Los_Angeles
BEGIN:DAYLIGHT
TZOFFSETFROM:-0800
TZOFFSETTO:-0700
TZNAME:PDT
DTSTART:20250309T100000
END:DAYLIGHT
BEGIN:STANDARD
TZOFFSETFROM:-0700
TZOFFSETTO:-0800
TZNAME:PST
DTSTART:20251102T090000
END:STANDARD
BEGIN:DAYLIGHT
TZOFFSETFROM:-0800
TZOFFSETTO:-0700
TZNAME:PDT
DTSTART:20260308T100000
END:DAYLIGHT
BEGIN:STANDARD
TZOFFSETFROM:-0700
TZOFFSETTO:-0800
TZNAME:PST
DTSTART:20261101T090000
END:STANDARD
BEGIN:DAYLIGHT
TZOFFSETFROM:-0800
TZOFFSETTO:-0700
TZNAME:PDT
DTSTART:20270314T100000
END:DAYLIGHT
BEGIN:STANDARD
TZOFFSETFROM:-0700
TZOFFSETTO:-0800
TZNAME:PST
DTSTART:20271107T090000
END:STANDARD
END:VTIMEZONE
BEGIN:VEVENT
DTSTART;TZID=America/Los_Angeles:20260706T090000
DTEND;TZID=America/Los_Angeles:20260706T120000
DTSTAMP:20260420T203011
CREATED:20260326T032552Z
LAST-MODIFIED:20260326T032552Z
UID:10012491-1783328400-1783339200@skyhawkseastbay.com
SUMMARY:Albany Volleyball Camp
DESCRIPTION:Albany Volleyball Camp \n\nDates: M-F (7/06/26-7/10/26)\n# of Classes: 5\nTime: 9:00am-12:00pm\nAges: 7-13\nLocation: Albany High School Gym\nPrice: $270\n\nGet ready to elevate your volleyball game! This action-packed clinic is perfect for young athletes eager to sharpen their skills and boost their confidence on the court. Our passionate staff and innovative curriculum create an electrifying atmosphere where young athletes learn and grow through the power of play.  Players are grouped by age and ability\, diving into interactive drills\, skill-enhancing short-sided games\, and organized scrimmages.  With just the right dose of friendly competition\, our instruction goes beyond the court\, instilling essential life lessons in respect\, teamwork\, sportsmanship\, integrity\, and leadership. Our development objectives include bumping/passing\, setting\, hitting\, serving\, and 4-2 positions and rotations.  So\, bring your friends or come ready to make new ones—it’s time for an unforgettable experience that promises to inspire and empower every player!
URL:https://skyhawkseastbay.com/event/albany-volleyball-camp/2026-07-06/
LOCATION:Albany High School Gym\, 603 Key Rte Blvd\, Albany\, 94706\, United States
CATEGORIES:Volleyballl
ATTACH;FMTTYPE=image/png:https://skyhawkseastbay.com/wp-content/uploads/2025/07/9.png
GEO:37.8963039;-122.2921754
X-APPLE-STRUCTURED-LOCATION;VALUE=URI;X-ADDRESS=Albany High School Gym 603 Key Rte Blvd Albany 94706 United States;X-APPLE-RADIUS=500;X-TITLE=603 Key Rte Blvd:geo:-122.2921754,37.8963039
END:VEVENT
BEGIN:VEVENT
DTSTART;TZID=America/Los_Angeles:20260707T090000
DTEND;TZID=America/Los_Angeles:20260707T120000
DTSTAMP:20260420T203011
CREATED:20260326T032552Z
LAST-MODIFIED:20260326T032552Z
UID:10012492-1783414800-1783425600@skyhawkseastbay.com
SUMMARY:Albany Volleyball Camp
DESCRIPTION:Albany Volleyball Camp \n\nDates: M-F (7/06/26-7/10/26)\n# of Classes: 5\nTime: 9:00am-12:00pm\nAges: 7-13\nLocation: Albany High School Gym\nPrice: $270\n\nGet ready to elevate your volleyball game! This action-packed clinic is perfect for young athletes eager to sharpen their skills and boost their confidence on the court. Our passionate staff and innovative curriculum create an electrifying atmosphere where young athletes learn and grow through the power of play.  Players are grouped by age and ability\, diving into interactive drills\, skill-enhancing short-sided games\, and organized scrimmages.  With just the right dose of friendly competition\, our instruction goes beyond the court\, instilling essential life lessons in respect\, teamwork\, sportsmanship\, integrity\, and leadership. Our development objectives include bumping/passing\, setting\, hitting\, serving\, and 4-2 positions and rotations.  So\, bring your friends or come ready to make new ones—it’s time for an unforgettable experience that promises to inspire and empower every player!
URL:https://skyhawkseastbay.com/event/albany-volleyball-camp/2026-07-07/
LOCATION:Albany High School Gym\, 603 Key Rte Blvd\, Albany\, 94706\, United States
CATEGORIES:Volleyballl
ATTACH;FMTTYPE=image/png:https://skyhawkseastbay.com/wp-content/uploads/2025/07/9.png
GEO:37.8963039;-122.2921754
X-APPLE-STRUCTURED-LOCATION;VALUE=URI;X-ADDRESS=Albany High School Gym 603 Key Rte Blvd Albany 94706 United States;X-APPLE-RADIUS=500;X-TITLE=603 Key Rte Blvd:geo:-122.2921754,37.8963039
END:VEVENT
BEGIN:VEVENT
DTSTART;TZID=America/Los_Angeles:20260708T090000
DTEND;TZID=America/Los_Angeles:20260708T120000
DTSTAMP:20260420T203011
CREATED:20260326T032552Z
LAST-MODIFIED:20260326T032552Z
UID:10012493-1783501200-1783512000@skyhawkseastbay.com
SUMMARY:Albany Volleyball Camp
DESCRIPTION:Albany Volleyball Camp \n\nDates: M-F (7/06/26-7/10/26)\n# of Classes: 5\nTime: 9:00am-12:00pm\nAges: 7-13\nLocation: Albany High School Gym\nPrice: $270\n\nGet ready to elevate your volleyball game! This action-packed clinic is perfect for young athletes eager to sharpen their skills and boost their confidence on the court. Our passionate staff and innovative curriculum create an electrifying atmosphere where young athletes learn and grow through the power of play.  Players are grouped by age and ability\, diving into interactive drills\, skill-enhancing short-sided games\, and organized scrimmages.  With just the right dose of friendly competition\, our instruction goes beyond the court\, instilling essential life lessons in respect\, teamwork\, sportsmanship\, integrity\, and leadership. Our development objectives include bumping/passing\, setting\, hitting\, serving\, and 4-2 positions and rotations.  So\, bring your friends or come ready to make new ones—it’s time for an unforgettable experience that promises to inspire and empower every player!
URL:https://skyhawkseastbay.com/event/albany-volleyball-camp/2026-07-08/
LOCATION:Albany High School Gym\, 603 Key Rte Blvd\, Albany\, 94706\, United States
CATEGORIES:Volleyballl
ATTACH;FMTTYPE=image/png:https://skyhawkseastbay.com/wp-content/uploads/2025/07/9.png
GEO:37.8963039;-122.2921754
X-APPLE-STRUCTURED-LOCATION;VALUE=URI;X-ADDRESS=Albany High School Gym 603 Key Rte Blvd Albany 94706 United States;X-APPLE-RADIUS=500;X-TITLE=603 Key Rte Blvd:geo:-122.2921754,37.8963039
END:VEVENT
BEGIN:VEVENT
DTSTART;TZID=America/Los_Angeles:20260709T090000
DTEND;TZID=America/Los_Angeles:20260709T120000
DTSTAMP:20260420T203011
CREATED:20260326T032552Z
LAST-MODIFIED:20260326T032552Z
UID:10012494-1783587600-1783598400@skyhawkseastbay.com
SUMMARY:Albany Volleyball Camp
DESCRIPTION:Albany Volleyball Camp \n\nDates: M-F (7/06/26-7/10/26)\n# of Classes: 5\nTime: 9:00am-12:00pm\nAges: 7-13\nLocation: Albany High School Gym\nPrice: $270\n\nGet ready to elevate your volleyball game! This action-packed clinic is perfect for young athletes eager to sharpen their skills and boost their confidence on the court. Our passionate staff and innovative curriculum create an electrifying atmosphere where young athletes learn and grow through the power of play.  Players are grouped by age and ability\, diving into interactive drills\, skill-enhancing short-sided games\, and organized scrimmages.  With just the right dose of friendly competition\, our instruction goes beyond the court\, instilling essential life lessons in respect\, teamwork\, sportsmanship\, integrity\, and leadership. Our development objectives include bumping/passing\, setting\, hitting\, serving\, and 4-2 positions and rotations.  So\, bring your friends or come ready to make new ones—it’s time for an unforgettable experience that promises to inspire and empower every player!
URL:https://skyhawkseastbay.com/event/albany-volleyball-camp/2026-07-09/
LOCATION:Albany High School Gym\, 603 Key Rte Blvd\, Albany\, 94706\, United States
CATEGORIES:Volleyballl
ATTACH;FMTTYPE=image/png:https://skyhawkseastbay.com/wp-content/uploads/2025/07/9.png
GEO:37.8963039;-122.2921754
X-APPLE-STRUCTURED-LOCATION;VALUE=URI;X-ADDRESS=Albany High School Gym 603 Key Rte Blvd Albany 94706 United States;X-APPLE-RADIUS=500;X-TITLE=603 Key Rte Blvd:geo:-122.2921754,37.8963039
END:VEVENT
BEGIN:VEVENT
DTSTART;TZID=America/Los_Angeles:20260710T090000
DTEND;TZID=America/Los_Angeles:20260710T120000
DTSTAMP:20260420T203011
CREATED:20260326T032552Z
LAST-MODIFIED:20260326T032552Z
UID:10012495-1783674000-1783684800@skyhawkseastbay.com
SUMMARY:Albany Volleyball Camp
DESCRIPTION:Albany Volleyball Camp \n\nDates: M-F (7/06/26-7/10/26)\n# of Classes: 5\nTime: 9:00am-12:00pm\nAges: 7-13\nLocation: Albany High School Gym\nPrice: $270\n\nGet ready to elevate your volleyball game! This action-packed clinic is perfect for young athletes eager to sharpen their skills and boost their confidence on the court. Our passionate staff and innovative curriculum create an electrifying atmosphere where young athletes learn and grow through the power of play.  Players are grouped by age and ability\, diving into interactive drills\, skill-enhancing short-sided games\, and organized scrimmages.  With just the right dose of friendly competition\, our instruction goes beyond the court\, instilling essential life lessons in respect\, teamwork\, sportsmanship\, integrity\, and leadership. Our development objectives include bumping/passing\, setting\, hitting\, serving\, and 4-2 positions and rotations.  So\, bring your friends or come ready to make new ones—it’s time for an unforgettable experience that promises to inspire and empower every player!
URL:https://skyhawkseastbay.com/event/albany-volleyball-camp/2026-07-10/
LOCATION:Albany High School Gym\, 603 Key Rte Blvd\, Albany\, 94706\, United States
CATEGORIES:Volleyballl
ATTACH;FMTTYPE=image/png:https://skyhawkseastbay.com/wp-content/uploads/2025/07/9.png
GEO:37.8963039;-122.2921754
X-APPLE-STRUCTURED-LOCATION;VALUE=URI;X-ADDRESS=Albany High School Gym 603 Key Rte Blvd Albany 94706 United States;X-APPLE-RADIUS=500;X-TITLE=603 Key Rte Blvd:geo:-122.2921754,37.8963039
END:VEVENT
END:VCALENDAR