BEGIN:VCALENDAR
VERSION:2.0
PRODID:-//skyhawkseastbay.com - ECPv6.15.20//NONSGML v1.0//EN
CALSCALE:GREGORIAN
METHOD:PUBLISH
X-ORIGINAL-URL:https://skyhawkseastbay.com
X-WR-CALDESC:Events for skyhawkseastbay.com
REFRESH-INTERVAL;VALUE=DURATION:PT1H
X-Robots-Tag:noindex
X-PUBLISHED-TTL:PT1H
BEGIN:VTIMEZONE
TZID:America/Los_Angeles
BEGIN:DAYLIGHT
TZOFFSETFROM:-0800
TZOFFSETTO:-0700
TZNAME:PDT
DTSTART:20250309T100000
END:DAYLIGHT
BEGIN:STANDARD
TZOFFSETFROM:-0700
TZOFFSETTO:-0800
TZNAME:PST
DTSTART:20251102T090000
END:STANDARD
BEGIN:DAYLIGHT
TZOFFSETFROM:-0800
TZOFFSETTO:-0700
TZNAME:PDT
DTSTART:20260308T100000
END:DAYLIGHT
BEGIN:STANDARD
TZOFFSETFROM:-0700
TZOFFSETTO:-0800
TZNAME:PST
DTSTART:20261101T090000
END:STANDARD
BEGIN:DAYLIGHT
TZOFFSETFROM:-0800
TZOFFSETTO:-0700
TZNAME:PDT
DTSTART:20270314T100000
END:DAYLIGHT
BEGIN:STANDARD
TZOFFSETFROM:-0700
TZOFFSETTO:-0800
TZNAME:PST
DTSTART:20271107T090000
END:STANDARD
END:VTIMEZONE
BEGIN:VEVENT
DTSTART;TZID=America/Los_Angeles:20260528T173000
DTEND;TZID=America/Los_Angeles:20260528T181500
DTSTAMP:20260419T182850
CREATED:20251211T172904Z
LAST-MODIFIED:20251211T172904Z
UID:10011539-1779989400-1779992100@skyhawkseastbay.com
SUMMARY:Walnut Creek Volleyball Clinic (Fun & Fundamentals)
DESCRIPTION:Skyhawks Walnut Creek Volleyball Clinic (Fun & Fundamentals) \n\nDates: Thursdays (4/16/26-5/28/26)\nNo Class Dates: 5/14/26\n# of Weeks: 6\nTime: 5:30pm-6:15pm\nAges: 6-8\nPrice: $204\nValle Verde Elementary School (MUR)\nSeason: Winter-Spring Session 3\n\nLearning the fundamentals of volleyball has never been so much FUN! Our engaging curriculum and age-appropriate equipment make it easy for beginners to jump into the game while building essential skills\, confidence\, and character through the power of play. At Skyhawks\, our enthusiastic coaches foster a welcoming atmosphere that encourages skill enhancement\, teamwork\, and the creation of lasting friendships. Your child will leave this program with new skills\, a new passion for volleyball\, and new friends to share the journey with! Our development objectives include bumping/passing\, setting\, hitting\, serving\, coordination\, balance\, body movement\, leadership\, sportsmanship\, teamwork\, and self-esteem
URL:https://skyhawkseastbay.com/event/walnut-creek-volleyball-clinic-fun-fundamentals-2/2026-05-28/
LOCATION:Valle Verde Elementary School\, 3275 Peachwillow Lane\, Walnut Creek\, CA\, 94598\, United States
CATEGORIES:Volleyballl
ATTACH;FMTTYPE=image/png:https://skyhawkseastbay.com/wp-content/uploads/2025/07/9.png
GEO:37.9339295;-122.0139058
X-APPLE-STRUCTURED-LOCATION;VALUE=URI;X-ADDRESS=Valle Verde Elementary School 3275 Peachwillow Lane Walnut Creek CA 94598 United States;X-APPLE-RADIUS=500;X-TITLE=3275 Peachwillow Lane:geo:-122.0139058,37.9339295
END:VEVENT
BEGIN:VEVENT
DTSTART;TZID=America/Los_Angeles:20260528T183000
DTEND;TZID=America/Los_Angeles:20260528T193000
DTSTAMP:20260419T182850
CREATED:20251211T173430Z
LAST-MODIFIED:20251211T173430Z
UID:10011560-1779993000-1779996600@skyhawkseastbay.com
SUMMARY:Walnut Creek Volleyball Clinic (Teamwork & Technique)
DESCRIPTION:Walnut Creek Volleyball Clinic (Teamwork & Technique) \n\nDates: Thursdays (4/16/26-5/28/26)\nNo Class Dates: 5/14/26\n# of Weeks: 6\nTime: 6:30pm-7:30pm\nAges: 8-12\nValle Verde Elementary School (MUR)\nSeason – Winter/Spring Session 3\n\nGet ready to elevate your volleyball game! Designed for beginning and intermediate players\, this action-packed clinic is perfect for young athletes eager to sharpen their skills and boost their confidence on the court. Our passionate staff and innovative curriculum create an electrifying atmosphere where young athletes learn and grow through the power of play. Players are grouped by age and ability\, diving into energetic drills\, skill-enhancing games\, unique Skyhawks competitions\, and exciting simulated scrimmages. With just the right dose of friendly competition\, our instruction goes beyond the court\, instilling essential life lessons in respect\, teamwork\, sportsmanship\, integrity\, and leadership. Our development objectives include bumping/passing\, setting\, hitting\, serving\, and 4-2 positions and rotations. So\, bring your friends or come ready to make new ones—it’s time for an unforgettable experience that promises to inspire and empower every player!
URL:https://skyhawkseastbay.com/event/walnut-creek-volleyball-clinic-teamwork-technique-2/2026-05-28/
LOCATION:Valle Verde Elementary School\, 3275 Peachwillow Lane\, Walnut Creek\, CA\, 94598\, United States
CATEGORIES:Volleyballl
ATTACH;FMTTYPE=image/png:https://skyhawkseastbay.com/wp-content/uploads/2025/07/9.png
GEO:37.9339295;-122.0139058
X-APPLE-STRUCTURED-LOCATION;VALUE=URI;X-ADDRESS=Valle Verde Elementary School 3275 Peachwillow Lane Walnut Creek CA 94598 United States;X-APPLE-RADIUS=500;X-TITLE=3275 Peachwillow Lane:geo:-122.0139058,37.9339295
END:VEVENT
END:VCALENDAR