BEGIN:VCALENDAR
VERSION:2.0
PRODID:-//skyhawkseastbay.com - ECPv6.15.20//NONSGML v1.0//EN
CALSCALE:GREGORIAN
METHOD:PUBLISH
X-ORIGINAL-URL:https://skyhawkseastbay.com
X-WR-CALDESC:Events for skyhawkseastbay.com
REFRESH-INTERVAL;VALUE=DURATION:PT1H
X-Robots-Tag:noindex
X-PUBLISHED-TTL:PT1H
BEGIN:VTIMEZONE
TZID:America/Los_Angeles
BEGIN:DAYLIGHT
TZOFFSETFROM:-0800
TZOFFSETTO:-0700
TZNAME:PDT
DTSTART:20250309T100000
END:DAYLIGHT
BEGIN:STANDARD
TZOFFSETFROM:-0700
TZOFFSETTO:-0800
TZNAME:PST
DTSTART:20251102T090000
END:STANDARD
BEGIN:DAYLIGHT
TZOFFSETFROM:-0800
TZOFFSETTO:-0700
TZNAME:PDT
DTSTART:20260308T100000
END:DAYLIGHT
BEGIN:STANDARD
TZOFFSETFROM:-0700
TZOFFSETTO:-0800
TZNAME:PST
DTSTART:20261101T090000
END:STANDARD
BEGIN:DAYLIGHT
TZOFFSETFROM:-0800
TZOFFSETTO:-0700
TZNAME:PDT
DTSTART:20270314T100000
END:DAYLIGHT
BEGIN:STANDARD
TZOFFSETFROM:-0700
TZOFFSETTO:-0800
TZNAME:PST
DTSTART:20271107T090000
END:STANDARD
END:VTIMEZONE
BEGIN:VEVENT
DTSTART;TZID=America/Los_Angeles:20260414T183000
DTEND;TZID=America/Los_Angeles:20260414T193000
DTSTAMP:20260420T103047
CREATED:20251222T052506Z
LAST-MODIFIED:20251222T052506Z
UID:10011765-1776191400-1776195000@skyhawkseastbay.com
SUMMARY:Albany Volleyball Clinic (Fun & Fundamentals)
DESCRIPTION:Albany Volleyball Clinic (Fun & Fundamentals) \n\nDates: Tuesdays (4/14/26-5/19/26)\nNo Class Dates: N/A\n# of Weeks: 6\nTime: 6:30pm-7:30pm\nAges: 6-10\nLocation: Ocean View Elementary MPR\nSeason: Winter/Spring Session 3\n\nLearning the fundamentals of volleyball has never been so much FUN! Our engaging curriculum and age-appropriate equipment make it easy for beginners to jump into the game while building essential skills\, confidence\, and character through the power of play. At Skyhawks\, our enthusiastic coaches foster a welcoming atmosphere that encourages skill enhancement\, teamwork\, and the creation of lasting friendships. Your child will leave this program with new skills\, a new passion for volleyball\, and new friends to share the journey with! Our development objectives include bumping/passing\, setting\, hitting\, serving\, coordination\, balance\, body movement\, leadership\, sportsmanship\, teamwork\, and self-esteem
URL:https://skyhawkseastbay.com/event/albany-volleyball-clinic-fun-fundamentals-3/2026-04-14/
LOCATION:Ocean View Elementary MPR\, 1000 Jackson Street\, Albany\, 94706\, United States
CATEGORIES:Volleyballl
ATTACH;FMTTYPE=image/png:https://skyhawkseastbay.com/wp-content/uploads/2025/07/9.png
GEO:37.8866516;-122.3014264
X-APPLE-STRUCTURED-LOCATION;VALUE=URI;X-ADDRESS=Ocean View Elementary MPR 1000 Jackson Street Albany 94706 United States;X-APPLE-RADIUS=500;X-TITLE=1000 Jackson Street:geo:-122.3014264,37.8866516
END:VEVENT
BEGIN:VEVENT
DTSTART;TZID=America/Los_Angeles:20260415T173000
DTEND;TZID=America/Los_Angeles:20260415T181500
DTSTAMP:20260420T103047
CREATED:20251014T185448Z
LAST-MODIFIED:20251014T185448Z
UID:10011447-1776274200-1776276900@skyhawkseastbay.com
SUMMARY:Orinda Volleyball Fun & Fundamentals
DESCRIPTION:Orinda Volleyball Fun & Fundamentals \n\nDates: Wednesdays (4/15/2026 – 5/20/2026)\nNo Class Dates: N/A\n# of Weeks: 6\nTime: 5:30pm – 6:15pm\nAges: 6-8\nOrinda Community Center: Founders Auditorium\n\nLearning the fundamentals of volleyball has never been so much FUN! Our engaging curriculum and age-appropriate equipment make it easy for beginners to jump into the game while building essential skills\, confidence\, and character through the power of play.   At Skyhawks\, our enthusiastic coaches foster a welcoming atmosphere that encourages skill enhancement\, teamwork\, and the creation of lasting friendships. Your child will leave this program with new skills\, a new passion for volleyball\, and new friends to share the journey with!  Our development objectives include bumping/passing\, setting\, hitting\, serving\, coordination\, balance\, body movement\, leadership\, sportsmanship\, teamwork\, and self-esteem 
URL:https://skyhawkseastbay.com/event/orinda-volleyball-funfundamentals-spring-2026/2026-04-15/
LOCATION:Orinda Community Center\, 28 Orinda Way\, Orinda\, CA\, 94563\, United States
CATEGORIES:Volleyballl
ATTACH;FMTTYPE=image/png:https://skyhawkseastbay.com/wp-content/uploads/2025/07/7.png
GEO:37.883165;-122.1878195
X-APPLE-STRUCTURED-LOCATION;VALUE=URI;X-ADDRESS=Orinda Community Center 28 Orinda Way Orinda CA 94563 United States;X-APPLE-RADIUS=500;X-TITLE=28 Orinda Way:geo:-122.1878195,37.883165
END:VEVENT
BEGIN:VEVENT
DTSTART;TZID=America/Los_Angeles:20260415T183000
DTEND;TZID=America/Los_Angeles:20260415T193000
DTSTAMP:20260420T103047
CREATED:20251014T185925Z
LAST-MODIFIED:20251014T185925Z
UID:10011459-1776277800-1776281400@skyhawkseastbay.com
SUMMARY:Orinda Volleyball Teamwork and Technique
DESCRIPTION:Orinda Volleyball Teamwork and Technique \n\nDates: Wednesdays (4/15/2026 – 5/20/2026)\nNo Class Dates: N/A\n# of Weeks: 6\nTime: 6:30pm – 7:30pm\nAges: 9-12\nOrinda Community Center: Founders Auditorium\n\nGet ready to elevate your volleyball game! Designed for beginning and intermediate players\, this action-packed clinic is perfect for young athletes eager to sharpen their skills and boost their confidence on the court. Our passionate staff and innovative curriculum create an electrifying atmosphere where young athletes learn and grow through the power of play.  Players are grouped by age and ability\, diving into energetic drills\, skill-enhancing games\, unique Skyhawks competitions\, and exciting simulated scrimmages.  With just the right dose of friendly competition\, our instruction goes beyond the court\, instilling essential life lessons in respect\, teamwork\, sportsmanship\, integrity\, and leadership. Our development objectives include bumping/passing\, setting\, hitting\, serving\, and 4-2 positions and rotations.  So\, bring your friends or come ready to make new ones—it’s time for an unforgettable experience that promises to inspire and empower every player! 
URL:https://skyhawkseastbay.com/event/orinda-volleyball-teamworktechnique-spring-2026/2026-04-15/
LOCATION:Orinda Community Center\, 28 Orinda Way\, Orinda\, CA\, 94563\, United States
CATEGORIES:Volleyballl
ATTACH;FMTTYPE=image/png:https://skyhawkseastbay.com/wp-content/uploads/2025/07/7.png
GEO:37.883165;-122.1878195
X-APPLE-STRUCTURED-LOCATION;VALUE=URI;X-ADDRESS=Orinda Community Center 28 Orinda Way Orinda CA 94563 United States;X-APPLE-RADIUS=500;X-TITLE=28 Orinda Way:geo:-122.1878195,37.883165
END:VEVENT
BEGIN:VEVENT
DTSTART;TZID=America/Los_Angeles:20260415T183000
DTEND;TZID=America/Los_Angeles:20260415T193000
DTSTAMP:20260420T103047
CREATED:20251215T165629Z
LAST-MODIFIED:20251215T165629Z
UID:10011710-1776277800-1776281400@skyhawkseastbay.com
SUMMARY:Lafayette Volleyball Clinic
DESCRIPTION:Lafayette Volleyball Clinic \n\nDates: Wednesdays (4/15/2026-5/20/2026)\nNo Class Dates: N/A\n# of Weeks: 6\nTime: 6:30pm-7:30pm\nAges: 7-12\nLocation: Jennifer Russel Building\, Lafayette\nPrice: $190\nSeason: Winter-Spring Session 3\n\nLearning the fundamentals of volleyball has never been so much FUN! Our engaging curriculum and age-appropriate equipment make it easy for beginners to jump into the game while building essential skills\, confidence\, and character through the power of play.   At Skyhawks\, our enthusiastic coaches foster a welcoming atmosphere that encourages skill enhancement\, teamwork\, and the creation of lasting friendships. Your child will leave this program with new skills\, a new passion for volleyball\, and new friends to share the journey with!  Our development objectives include bumping/passing\, setting\, hitting\, serving\, coordination\, balance\, body movement\, leadership\, sportsmanship\, teamwork\, and self-esteem.
URL:https://skyhawkseastbay.com/event/lafayette-volleyball-clinic-3/2026-04-15/
LOCATION:Lafayette Community Center  (Jennifer Russel Building)\, 500 St Marys Rd\, Lafayette\, CA\, 94549\, United States
CATEGORIES:Volleyballl
ATTACH;FMTTYPE=image/png:https://skyhawkseastbay.com/wp-content/uploads/2025/07/9.png
GEO:37.8654873;-122.0991003
X-APPLE-STRUCTURED-LOCATION;VALUE=URI;X-ADDRESS=Lafayette Community Center  (Jennifer Russel Building) 500 St Marys Rd Lafayette CA 94549 United States;X-APPLE-RADIUS=500;X-TITLE=500 St Marys Rd:geo:-122.0991003,37.8654873
END:VEVENT
BEGIN:VEVENT
DTSTART;TZID=America/Los_Angeles:20260415T183000
DTEND;TZID=America/Los_Angeles:20260415T193000
DTSTAMP:20260420T103047
CREATED:20251222T053245Z
LAST-MODIFIED:20251222T053245Z
UID:10011797-1776277800-1776281400@skyhawkseastbay.com
SUMMARY:Albany Volleyball Clinic (Skills & Scrimmages)
DESCRIPTION:Albany Volleyball Clinic (Skills & Scrimmages) \n\nDates: Wednesdays (4/15/26-5/20/826\nNo Class Dates: N/A\n# of Weeks: 6\nTime: 6:30pm-7:30pm\nAges: 9-12\nLocation: Ocean View Elementary MPR\nSeason: Winter-Spring Session 3\n\nGet ready for an exhilarating experience where young athletes learn to unleash their potential through the power of play! Designed to equip aspiring players with essential skills and winning strategies\, this program promises an action-packed adventure that combines the skill-enhancement teachings of a clinic with the competitive excitement of a league.  Each day starts with an interactive 45-minute skill development clinic where players work with our enthusiastic staff to develop their passing\, setting\, hitting\, and serving skills.  Then\, it’s time to put those skills into action with 30 minutes of simulated scrimmages.  Here\, players can showcase their newfound skills with all the excitement of a game-day atmosphere.  So\, bring your friends or come ready to make new ones—it’s time for an unforgettable experience that promises to inspire and empower every player!
URL:https://skyhawkseastbay.com/event/albany-volleyball-clinic-skills-scrimmages-3/2026-04-15/
LOCATION:Ocean View Elementary MPR\, 1000 Jackson Street\, Albany\, 94706\, United States
CATEGORIES:Volleyballl
ATTACH;FMTTYPE=image/png:https://skyhawkseastbay.com/wp-content/uploads/2025/07/9.png
GEO:37.8866516;-122.3014264
X-APPLE-STRUCTURED-LOCATION;VALUE=URI;X-ADDRESS=Ocean View Elementary MPR 1000 Jackson Street Albany 94706 United States;X-APPLE-RADIUS=500;X-TITLE=1000 Jackson Street:geo:-122.3014264,37.8866516
END:VEVENT
BEGIN:VEVENT
DTSTART;TZID=America/Los_Angeles:20260416T173000
DTEND;TZID=America/Los_Angeles:20260416T181500
DTSTAMP:20260420T103047
CREATED:20251211T172904Z
LAST-MODIFIED:20251211T172904Z
UID:10011534-1776360600-1776363300@skyhawkseastbay.com
SUMMARY:Walnut Creek Volleyball Clinic (Fun & Fundamentals)
DESCRIPTION:Skyhawks Walnut Creek Volleyball Clinic (Fun & Fundamentals) \n\nDates: Thursdays (4/16/26-5/28/26)\nNo Class Dates: 5/14/26\n# of Weeks: 6\nTime: 5:30pm-6:15pm\nAges: 6-8\nPrice: $204\nValle Verde Elementary School (MUR)\nSeason: Winter-Spring Session 3\n\nLearning the fundamentals of volleyball has never been so much FUN! Our engaging curriculum and age-appropriate equipment make it easy for beginners to jump into the game while building essential skills\, confidence\, and character through the power of play. At Skyhawks\, our enthusiastic coaches foster a welcoming atmosphere that encourages skill enhancement\, teamwork\, and the creation of lasting friendships. Your child will leave this program with new skills\, a new passion for volleyball\, and new friends to share the journey with! Our development objectives include bumping/passing\, setting\, hitting\, serving\, coordination\, balance\, body movement\, leadership\, sportsmanship\, teamwork\, and self-esteem
URL:https://skyhawkseastbay.com/event/walnut-creek-volleyball-clinic-fun-fundamentals-2/2026-04-16/
LOCATION:Valle Verde Elementary School\, 3275 Peachwillow Lane\, Walnut Creek\, CA\, 94598\, United States
CATEGORIES:Volleyballl
ATTACH;FMTTYPE=image/png:https://skyhawkseastbay.com/wp-content/uploads/2025/07/9.png
GEO:37.9339295;-122.0139058
X-APPLE-STRUCTURED-LOCATION;VALUE=URI;X-ADDRESS=Valle Verde Elementary School 3275 Peachwillow Lane Walnut Creek CA 94598 United States;X-APPLE-RADIUS=500;X-TITLE=3275 Peachwillow Lane:geo:-122.0139058,37.9339295
END:VEVENT
BEGIN:VEVENT
DTSTART;TZID=America/Los_Angeles:20260416T183000
DTEND;TZID=America/Los_Angeles:20260416T193000
DTSTAMP:20260420T103047
CREATED:20251211T173430Z
LAST-MODIFIED:20251211T173430Z
UID:10011555-1776364200-1776367800@skyhawkseastbay.com
SUMMARY:Walnut Creek Volleyball Clinic (Teamwork & Technique)
DESCRIPTION:Walnut Creek Volleyball Clinic (Teamwork & Technique) \n\nDates: Thursdays (4/16/26-5/28/26)\nNo Class Dates: 5/14/26\n# of Weeks: 6\nTime: 6:30pm-7:30pm\nAges: 8-12\nValle Verde Elementary School (MUR)\nSeason – Winter/Spring Session 3\n\nGet ready to elevate your volleyball game! Designed for beginning and intermediate players\, this action-packed clinic is perfect for young athletes eager to sharpen their skills and boost their confidence on the court. Our passionate staff and innovative curriculum create an electrifying atmosphere where young athletes learn and grow through the power of play. Players are grouped by age and ability\, diving into energetic drills\, skill-enhancing games\, unique Skyhawks competitions\, and exciting simulated scrimmages. With just the right dose of friendly competition\, our instruction goes beyond the court\, instilling essential life lessons in respect\, teamwork\, sportsmanship\, integrity\, and leadership. Our development objectives include bumping/passing\, setting\, hitting\, serving\, and 4-2 positions and rotations. So\, bring your friends or come ready to make new ones—it’s time for an unforgettable experience that promises to inspire and empower every player!
URL:https://skyhawkseastbay.com/event/walnut-creek-volleyball-clinic-teamwork-technique-2/2026-04-16/
LOCATION:Valle Verde Elementary School\, 3275 Peachwillow Lane\, Walnut Creek\, CA\, 94598\, United States
CATEGORIES:Volleyballl
ATTACH;FMTTYPE=image/png:https://skyhawkseastbay.com/wp-content/uploads/2025/07/9.png
GEO:37.9339295;-122.0139058
X-APPLE-STRUCTURED-LOCATION;VALUE=URI;X-ADDRESS=Valle Verde Elementary School 3275 Peachwillow Lane Walnut Creek CA 94598 United States;X-APPLE-RADIUS=500;X-TITLE=3275 Peachwillow Lane:geo:-122.0139058,37.9339295
END:VEVENT
END:VCALENDAR