BEGIN:VCALENDAR
VERSION:2.0
PRODID:-//skyhawkseastbay.com - ECPv6.15.20//NONSGML v1.0//EN
CALSCALE:GREGORIAN
METHOD:PUBLISH
X-ORIGINAL-URL:https://skyhawkseastbay.com
X-WR-CALDESC:Events for skyhawkseastbay.com
REFRESH-INTERVAL;VALUE=DURATION:PT1H
X-Robots-Tag:noindex
X-PUBLISHED-TTL:PT1H
BEGIN:VTIMEZONE
TZID:America/Los_Angeles
BEGIN:DAYLIGHT
TZOFFSETFROM:-0800
TZOFFSETTO:-0700
TZNAME:PDT
DTSTART:20250309T100000
END:DAYLIGHT
BEGIN:STANDARD
TZOFFSETFROM:-0700
TZOFFSETTO:-0800
TZNAME:PST
DTSTART:20251102T090000
END:STANDARD
BEGIN:DAYLIGHT
TZOFFSETFROM:-0800
TZOFFSETTO:-0700
TZNAME:PDT
DTSTART:20260308T100000
END:DAYLIGHT
BEGIN:STANDARD
TZOFFSETFROM:-0700
TZOFFSETTO:-0800
TZNAME:PST
DTSTART:20261101T090000
END:STANDARD
BEGIN:DAYLIGHT
TZOFFSETFROM:-0800
TZOFFSETTO:-0700
TZNAME:PDT
DTSTART:20270314T100000
END:DAYLIGHT
BEGIN:STANDARD
TZOFFSETFROM:-0700
TZOFFSETTO:-0800
TZNAME:PST
DTSTART:20271107T090000
END:STANDARD
END:VTIMEZONE
BEGIN:VEVENT
DTSTART;TZID=America/Los_Angeles:20260616T090000
DTEND;TZID=America/Los_Angeles:20260616T150000
DTSTAMP:20260420T124625
CREATED:20260321T201340Z
LAST-MODIFIED:20260321T201340Z
UID:10012111-1781600400-1781622000@skyhawkseastbay.com
SUMMARY:Piedmont Volleyball Camp
DESCRIPTION:Piedmont Volleyball Camp \n\nDates: M-Th (6/15/26-6/18/26)\n# of Classes: 4\nTime: 9:00am-3:00pm\nAges: 8-13\nLocation: Coaches Playfield\, Piedmont\nPrice: $288\n\nGet ready to elevate your volleyball game! This action-packed clinic is perfect for young athletes eager to sharpen their skills and boost their confidence on the court. Our passionate staff and innovative curriculum create an electrifying atmosphere where young athletes learn and grow through the power of play. Players are grouped by age and ability\, diving into interactive drills\, skill-enhancing short-sided games\, and organized scrimmages. With just the right dose of friendly competition\, our instruction goes beyond the court\, instilling essential life lessons in respect\, teamwork\, sportsmanship\, integrity\, and leadership. Our development objectives include bumping/passing\, setting\, hitting\, serving\, and 4-2 positions and rotations. So\, bring your friends or come ready to make new ones—it’s time for an unforgettable experience that promises to inspire and empower every player!
URL:https://skyhawkseastbay.com/event/piedmont-volleyball-camp/2026-06-16/
LOCATION:Coaches Field\, 898 Red Rock Road\, Piedmont\, CA\, 94611\, United States
CATEGORIES:Volleyballl
ATTACH;FMTTYPE=image/png:https://skyhawkseastbay.com/wp-content/uploads/2025/07/9.png
GEO:37.8317445;-122.2289825
X-APPLE-STRUCTURED-LOCATION;VALUE=URI;X-ADDRESS=Coaches Field 898 Red Rock Road Piedmont CA 94611 United States;X-APPLE-RADIUS=500;X-TITLE=898 Red Rock Road:geo:-122.2289825,37.8317445
END:VEVENT
BEGIN:VEVENT
DTSTART;TZID=America/Los_Angeles:20260629T090000
DTEND;TZID=America/Los_Angeles:20260629T120000
DTSTAMP:20260420T124625
CREATED:20260324T033406Z
LAST-MODIFIED:20260324T033406Z
UID:10012359-1782723600-1782734400@skyhawkseastbay.com
SUMMARY:Danville Volleyball Camp
DESCRIPTION:Danville Volleyball Camp \n\nDates: M-Th (6/29/26-7/02/26\n# of Classes: 4\nTime: 9:00am-12:00pm\nAges: 6-12\nLocation: Diablo Vista Gym\, Danville\nPrice: $220\n\nGet ready to elevate your volleyball game! This action-packed clinic is perfect for young athletes eager to sharpen their skills and boost their confidence on the court. Our passionate staff and innovative curriculum create an electrifying atmosphere where young athletes learn and grow through the power of play.  Players are grouped by age and ability\, diving into interactive drills\, skill-enhancing short-sided games\, and organized scrimmages.  With just the right dose of friendly competition\, our instruction goes beyond the court\, instilling essential life lessons in respect\, teamwork\, sportsmanship\, integrity\, and leadership. Our development objectives include bumping/passing\, setting\, hitting\, serving\, and 4-2 positions and rotations.  So\, bring your friends or come ready to make new ones—it’s time for an unforgettable experience that promises to inspire and empower every player!
URL:https://skyhawkseastbay.com/event/danville-volleyball-camp/2026-06-29/
LOCATION:Diablo Vista Community Gym\, 4100 Camino Tassajara\, Danville\, 94506
CATEGORIES:Volleyballl
ATTACH;FMTTYPE=image/png:https://skyhawkseastbay.com/wp-content/uploads/2025/07/9.png
GEO:37.7992633;-121.8943485
X-APPLE-STRUCTURED-LOCATION;VALUE=URI;X-ADDRESS=Diablo Vista Community Gym 4100 Camino Tassajara Danville 94506;X-APPLE-RADIUS=500;X-TITLE=4100 Camino Tassajara:geo:-121.8943485,37.7992633
END:VEVENT
BEGIN:VEVENT
DTSTART;TZID=America/Los_Angeles:20260706T090000
DTEND;TZID=America/Los_Angeles:20260706T120000
DTSTAMP:20260420T124625
CREATED:20260326T032552Z
LAST-MODIFIED:20260326T032552Z
UID:10012491-1783328400-1783339200@skyhawkseastbay.com
SUMMARY:Albany Volleyball Camp
DESCRIPTION:Albany Volleyball Camp \n\nDates: M-F (7/06/26-7/10/26)\n# of Classes: 5\nTime: 9:00am-12:00pm\nAges: 7-13\nLocation: Albany High School Gym\nPrice: $270\n\nGet ready to elevate your volleyball game! This action-packed clinic is perfect for young athletes eager to sharpen their skills and boost their confidence on the court. Our passionate staff and innovative curriculum create an electrifying atmosphere where young athletes learn and grow through the power of play.  Players are grouped by age and ability\, diving into interactive drills\, skill-enhancing short-sided games\, and organized scrimmages.  With just the right dose of friendly competition\, our instruction goes beyond the court\, instilling essential life lessons in respect\, teamwork\, sportsmanship\, integrity\, and leadership. Our development objectives include bumping/passing\, setting\, hitting\, serving\, and 4-2 positions and rotations.  So\, bring your friends or come ready to make new ones—it’s time for an unforgettable experience that promises to inspire and empower every player!
URL:https://skyhawkseastbay.com/event/albany-volleyball-camp/2026-07-06/
LOCATION:Albany High School Gym\, 603 Key Rte Blvd\, Albany\, 94706\, United States
CATEGORIES:Volleyballl
ATTACH;FMTTYPE=image/png:https://skyhawkseastbay.com/wp-content/uploads/2025/07/9.png
GEO:37.8963039;-122.2921754
X-APPLE-STRUCTURED-LOCATION;VALUE=URI;X-ADDRESS=Albany High School Gym 603 Key Rte Blvd Albany 94706 United States;X-APPLE-RADIUS=500;X-TITLE=603 Key Rte Blvd:geo:-122.2921754,37.8963039
END:VEVENT
BEGIN:VEVENT
DTSTART;TZID=America/Los_Angeles:20260713T090000
DTEND;TZID=America/Los_Angeles:20260713T150000
DTSTAMP:20260420T124625
CREATED:20260323T040903Z
LAST-MODIFIED:20260323T040903Z
UID:10012246-1783933200-1783954800@skyhawkseastbay.com
SUMMARY:Lafayette Volleyball Camp
DESCRIPTION:Lafayette Volleyball Camp \n\nDates: M-F (7/13/26-7/17/26)\n# of Classes: 5\nTime: 9:00am-12:00pm\nAges: 7-13\nLocation: Stanley Middle School Field\, Lafayette\nPrice: $259\n\nDevelop the skills and confidence to advance in your volleyball journey. Campers are grouped by age to participate in a series of interactive drills\, skill-development games\, Skyhawks original competitions\, and simulated scrimmages. By adding just the right amount of friendly competition\, our instruction extends beyond the court\, teaching vital life lessons for both sports and life\, including respect\, teamwork\, sportsmanship\, integrity\, leadership\, and self-esteem. Our enthusiastic staff and specialized curriculum allow young athletes to learn and grow through play\, with lots of encouragement and a strong emphasis on fun. Our development objectives include bumping/passing\, setting\, hitting/spiking\, serving\, and 4-2 positions/rotations. Your child will leave this camp with new friends\, new skills\, and a new passion for Volleyball.
URL:https://skyhawkseastbay.com/event/lafayette-volleyball-camp/2026-07-13/
LOCATION:Stanley Middle School Field\, 3455 School Streety\, Lafayette\, 94549\, United States
CATEGORIES:Volleyballl
ATTACH;FMTTYPE=image/png:https://skyhawkseastbay.com/wp-content/uploads/2025/07/9.png
GEO:37.8870652;-122.1146314
X-APPLE-STRUCTURED-LOCATION;VALUE=URI;X-ADDRESS=Stanley Middle School Field 3455 School Streety Lafayette 94549 United States;X-APPLE-RADIUS=500;X-TITLE=3455 School Streety:geo:-122.1146314,37.8870652
END:VEVENT
BEGIN:VEVENT
DTSTART;TZID=America/Los_Angeles:20260720T143000
DTEND;TZID=America/Los_Angeles:20260720T163000
DTSTAMP:20260420T124625
CREATED:20260321T040512Z
LAST-MODIFIED:20260321T040512Z
UID:10012081-1784557800-1784565000@skyhawkseastbay.com
SUMMARY:Orinda Volleyball Camp
DESCRIPTION:Orinda Volleyball Camp \n\nDates: M-Th (7/20/26-7/23/26)\n# of Classes: 4\nTime: 2:30pm-4:30pm\nAges: 6-11\nLocation: Wilder Field Art & Garden Center\, Orinda\nPrice: $160\n\nLearning the fundamentals of volleyball has never been so much FUN! Our engaging curriculum and age-appropriate equipment make it easy for beginners to jump into the game while building essential skills\, confidence\, and character through the power of play.   Players are grouped by age and ability\, diving into interactive drills\, skill-enhancing games\, and Skyhawks original competitions.  At Skyhawks\, our enthusiastic coaches foster a welcoming atmosphere that encourages skill enhancement\, teamwork\, and the creation of lasting friendships. Your child will leave this program with new skills\, a new passion for volleyball\, and new friends to share the journey with!  Our development objectives include bumping/passing\, setting\, hitting\, serving\, coordination\, balance\, body movement\, leadership\, sportsmanship\, teamwork\, and self-esteem.
URL:https://skyhawkseastbay.com/event/orinda-volleyball-camp/2026-07-20/
LOCATION:Art & Garden Center\, 101 Wilder Rd\, Orinda\, CA\, 94563\, United States
CATEGORIES:Volleyballl
ATTACH;FMTTYPE=image/png:https://skyhawkseastbay.com/wp-content/uploads/2025/07/9.png
GEO:37.8662629;-122.1926969
X-APPLE-STRUCTURED-LOCATION;VALUE=URI;X-ADDRESS=Art & Garden Center 101 Wilder Rd Orinda CA 94563 United States;X-APPLE-RADIUS=500;X-TITLE=101 Wilder Rd:geo:-122.1926969,37.8662629
END:VEVENT
BEGIN:VEVENT
DTSTART;TZID=America/Los_Angeles:20260727T090000
DTEND;TZID=America/Los_Angeles:20260727T120000
DTSTAMP:20260420T124625
CREATED:20260317T031023Z
LAST-MODIFIED:20260317T031023Z
UID:10011924-1785142800-1785153600@skyhawkseastbay.com
SUMMARY:Pleasant Hill Volleyball Camp
DESCRIPTION:Pleasant Hill Volleyball Camp \n\nDates: M-F (7/27/26-7/31/26)\n# of Classes: 5\nTime: 9:00am-12:00pm\nAges: 7-12\nLocation: Pleasant Hill Park\nPrice: $275\n\nGet ready to elevate your volleyball game! This action-packed clinic is perfect for young athletes eager to sharpen their skills and boost their confidence on the court. Our passionate staff and innovative curriculum create an electrifying atmosphere where young athletes learn and grow through the power of play.  Players are grouped by age and ability\, diving into interactive drills\, skill-enhancing short-sided games\, and organized scrimmages.  With just the right dose of friendly competition\, our instruction goes beyond the court\, instilling essential life lessons in respect\, teamwork\, sportsmanship\, integrity\, and leadership. Our development objectives include bumping/passing\, setting\, hitting\, serving\, and 4-2 positions and rotations.  So\, bring your friends or come ready to make new ones—it’s time for an unforgettable experience that promises to inspire and empower every player!
URL:https://skyhawkseastbay.com/event/pleasant-hill-volleyball-camp/2026-07-27/
LOCATION:Pleasant Hill Park\, 147 Gregory Lane\, Pleasant Hill\, CA\, 94523\, United States
CATEGORIES:Volleyballl
ATTACH;FMTTYPE=image/png:https://skyhawkseastbay.com/wp-content/uploads/2025/07/9.png
GEO:37.9483278;-122.0656551
X-APPLE-STRUCTURED-LOCATION;VALUE=URI;X-ADDRESS=Pleasant Hill Park 147 Gregory Lane Pleasant Hill CA 94523 United States;X-APPLE-RADIUS=500;X-TITLE=147 Gregory Lane:geo:-122.0656551,37.9483278
END:VEVENT
END:VCALENDAR