BEGIN:VCALENDAR
VERSION:2.0
PRODID:-//skyhawkseastbay.com - ECPv6.15.20//NONSGML v1.0//EN
CALSCALE:GREGORIAN
METHOD:PUBLISH
X-ORIGINAL-URL:https://skyhawkseastbay.com
X-WR-CALDESC:Events for skyhawkseastbay.com
REFRESH-INTERVAL;VALUE=DURATION:PT1H
X-Robots-Tag:noindex
X-PUBLISHED-TTL:PT1H
BEGIN:VTIMEZONE
TZID:America/Los_Angeles
BEGIN:DAYLIGHT
TZOFFSETFROM:-0800
TZOFFSETTO:-0700
TZNAME:PDT
DTSTART:20250309T100000
END:DAYLIGHT
BEGIN:STANDARD
TZOFFSETFROM:-0700
TZOFFSETTO:-0800
TZNAME:PST
DTSTART:20251102T090000
END:STANDARD
BEGIN:DAYLIGHT
TZOFFSETFROM:-0800
TZOFFSETTO:-0700
TZNAME:PDT
DTSTART:20260308T100000
END:DAYLIGHT
BEGIN:STANDARD
TZOFFSETFROM:-0700
TZOFFSETTO:-0800
TZNAME:PST
DTSTART:20261101T090000
END:STANDARD
BEGIN:DAYLIGHT
TZOFFSETFROM:-0800
TZOFFSETTO:-0700
TZNAME:PDT
DTSTART:20270314T100000
END:DAYLIGHT
BEGIN:STANDARD
TZOFFSETFROM:-0700
TZOFFSETTO:-0800
TZNAME:PST
DTSTART:20271107T090000
END:STANDARD
END:VTIMEZONE
BEGIN:VEVENT
DTSTART;TZID=America/Los_Angeles:20260505T103000
DTEND;TZID=America/Los_Angeles:20260505T110000
DTSTAMP:20260420T120647
CREATED:20251014T181319Z
LAST-MODIFIED:20251014T181319Z
UID:10011408-1777977000-1777978800@skyhawkseastbay.com
SUMMARY:Orinda Parent & Me SuperTots Sports Medley
DESCRIPTION:Orinda Parent & Me SuperTots Sports Medley \n\nDates: Tuesdays (4/14/2026-5/19/2026)\nNo Class Dates: N/A\n# of Weeks: 6\nTime: 10:30am-11:00am\nAges: 2-3\nOrinda Community Center: Room 9a/b\n\nThis program requires parent participation.  This action-packed program combines baseball\, basketball\, and soccer into one ultimate sports adventure!  Our fun and engaging program features a variety of dynamic games and activities that help kids develop essential skills while fostering their confidence and passion for the game. Skyhawks coaches create a warm and supportive environment where children of all abilities can learn and grow at their own pace\, with lots of encouragement and a big focus on FUN!  Our age-appropriate curriculum and modified equipment enable our youngest athletes to explore sport-specific skill development. body movement\, coordination\, balance\, agility\, and self-esteem through the power of play. Your child will leave this program with new skills\, new friends\, and a new love for sports.
URL:https://skyhawkseastbay.com/event/orinda-parent-me-supertots-sports-medley-spring/2026-05-05/
LOCATION:Orinda Community Center\, 28 Orinda Way\, Orinda\, CA\, 94563\, United States
CATEGORIES:Multi-Sport
ATTACH;FMTTYPE=image/png:https://skyhawkseastbay.com/wp-content/uploads/2025/07/7.png
GEO:37.883165;-122.1878195
X-APPLE-STRUCTURED-LOCATION;VALUE=URI;X-ADDRESS=Orinda Community Center 28 Orinda Way Orinda CA 94563 United States;X-APPLE-RADIUS=500;X-TITLE=28 Orinda Way:geo:-122.1878195,37.883165
END:VEVENT
BEGIN:VEVENT
DTSTART;TZID=America/Los_Angeles:20260505T111500
DTEND;TZID=America/Los_Angeles:20260506T120000
DTSTAMP:20260420T120647
CREATED:20251014T182228Z
LAST-MODIFIED:20251014T182228Z
UID:10011426-1777979700-1778068800@skyhawkseastbay.com
SUMMARY:Orinda SuperTots Sports Medley
DESCRIPTION:Orinda SuperTots Sports Medley \n\nDates: Tuesdays (4/14/2026 – 5/19/2026)\nNo Class Dates: N/A\n# of Weeks: 6\nTime: 11:15 am – 12:00 pm\nAges: 3-4\nOrinda Community Center: Weadow\n\nThis action-packed program combines baseball\, basketball\, and soccer into one ultimate sports adventure! Our fun and engaging program features a variety of dynamic games and activities that help kids develop essential skills while fostering their confidence and passion for the game. Skyhawks coaches create a warm and supportive environment where children of all abilities can learn and grow at their own pace\, with lots of encouragement and a big focus on FUN! Our age-appropriate curriculum and modified equipment enable our youngest athletes to explore sport-specific skill development. body movement\, coordination\, balance\, agility\, and self-esteem through the power of play. Your child will leave this program with new skills\, new friends\, and a new love for sports.
URL:https://skyhawkseastbay.com/event/orinda-supertots-sports-medley-spring/2026-05-05/
LOCATION:Orinda Community Center\, 28 Orinda Way\, Orinda\, CA\, 94563\, United States
CATEGORIES:Multi-Sport
ATTACH;FMTTYPE=image/png:https://skyhawkseastbay.com/wp-content/uploads/2025/07/7.png
GEO:37.883165;-122.1878195
X-APPLE-STRUCTURED-LOCATION;VALUE=URI;X-ADDRESS=Orinda Community Center 28 Orinda Way Orinda CA 94563 United States;X-APPLE-RADIUS=500;X-TITLE=28 Orinda Way:geo:-122.1878195,37.883165
END:VEVENT
END:VCALENDAR