BEGIN:VCALENDAR
VERSION:2.0
PRODID:-//skyhawkseastbay.com - ECPv6.15.20//NONSGML v1.0//EN
CALSCALE:GREGORIAN
METHOD:PUBLISH
X-WR-CALNAME:skyhawkseastbay.com
X-ORIGINAL-URL:https://skyhawkseastbay.com
X-WR-CALDESC:Events for skyhawkseastbay.com
REFRESH-INTERVAL;VALUE=DURATION:PT1H
X-Robots-Tag:noindex
X-PUBLISHED-TTL:PT1H
BEGIN:VTIMEZONE
TZID:America/Los_Angeles
BEGIN:DAYLIGHT
TZOFFSETFROM:-0800
TZOFFSETTO:-0700
TZNAME:PDT
DTSTART:20250309T100000
END:DAYLIGHT
BEGIN:STANDARD
TZOFFSETFROM:-0700
TZOFFSETTO:-0800
TZNAME:PST
DTSTART:20251102T090000
END:STANDARD
BEGIN:DAYLIGHT
TZOFFSETFROM:-0800
TZOFFSETTO:-0700
TZNAME:PDT
DTSTART:20260308T100000
END:DAYLIGHT
BEGIN:STANDARD
TZOFFSETFROM:-0700
TZOFFSETTO:-0800
TZNAME:PST
DTSTART:20261101T090000
END:STANDARD
BEGIN:DAYLIGHT
TZOFFSETFROM:-0800
TZOFFSETTO:-0700
TZNAME:PDT
DTSTART:20270314T100000
END:DAYLIGHT
BEGIN:STANDARD
TZOFFSETFROM:-0700
TZOFFSETTO:-0800
TZNAME:PST
DTSTART:20271107T090000
END:STANDARD
END:VTIMEZONE
BEGIN:VEVENT
DTSTART;TZID=America/Los_Angeles:20260410T090000
DTEND;TZID=America/Los_Angeles:20260410T143000
DTSTAMP:20260420T095651
CREATED:20251225T040509Z
LAST-MODIFIED:20251225T040509Z
UID:10011810-1775811600-1775831400@skyhawkseastbay.com
SUMMARY:Walnut Creek Spring Break Flag Football Camp (Skills + Scrimmages)
DESCRIPTION:Walnut Creek Spring Break Flag Football Camp (Full-Day: Skills + Scrimmages) \n\nDates: Monday – Friday (4/06-4/10)\n# of Days: 5\nTime: 9:00am-2:30pm\nAges: 6-13\nLocation: Rudgear Park\, Walnut Creek\n\nThis action-packed full-day camp combines an afternoon of Flag Football Scrimmages with our renowned half-day Flag Football Instructional Camp. From 9 a.m. to 12 p.m.\, campers will develop their skills and confidence through interactive drills\, skill reinforcement games\, and Skyhawks’ original competitions.  These stations are designed to teach young athletes the fundamentals of throwing\, rushing\, receiving\, and flag pulling through the power of PLAY! \nAfter lunch\, it’s time to put those skills into action with a 30-minute team install practice followed by 90-minutes of competitive scrimmages. Here\, players can showcase their newfound skills against opposing teams with all the excitement of a game-day atmosphere. With no offensive/defensive lines\, these high-scoring aerial attack games are as much fun to watch as they are to play. So\, bring your friends or come ready to make new ones—it’s time for an unforgettable experience that promises to inspire and empower every player! \nOur enthusiastic staff and specialized curriculum allow young athletes to learn and grow through play\, with lots of encouragement and a strong emphasis on fun. By adding just the right amount of friendly competition\, our instruction extends beyond the field\, teaching vital life lessons for both sports and life\, including respect\, teamwork\, sportsmanship\, integrity\, leadership\, and self-esteem. Your child will leave this camp with new friends\, new skills\, and a new passion for sports.
URL:https://skyhawkseastbay.com/event/walnut-creek-spring-break-flag-football-camp-skills-scrimmages/2026-04-10/
LOCATION:Rudgear Park\, 2261 Dapplegray Lane\, Walnut Creek\, CA\, 94596\, United States
CATEGORIES:Flag Football
ATTACH;FMTTYPE=image/png:https://skyhawkseastbay.com/wp-content/uploads/2025/07/14.png
GEO:37.8767979;-122.0286942
X-APPLE-STRUCTURED-LOCATION;VALUE=URI;X-ADDRESS=Rudgear Park 2261 Dapplegray Lane Walnut Creek CA 94596 United States;X-APPLE-RADIUS=500;X-TITLE=2261 Dapplegray Lane:geo:-122.0286942,37.8767979
END:VEVENT
BEGIN:VEVENT
DTSTART;TZID=America/Los_Angeles:20260410T090000
DTEND;TZID=America/Los_Angeles:20260410T120000
DTSTAMP:20260420T095651
CREATED:20251225T040902Z
LAST-MODIFIED:20251225T040902Z
UID:10011824-1775811600-1775822400@skyhawkseastbay.com
SUMMARY:Walnut Creek Spring Break Flag Football Camp (Skills)
DESCRIPTION:Walnut Creek Spring Break Flag Football Camp (Half-Day: Skills) \n\nDates: Monday – Friday (4/06-4/10)\n# of Days: 5\nTime: 9:00am-12:00pm\nAges: 6-13\nRudgear Park\, Walnut Creek\n\nThis camp is designed for beginning to intermediate players and aims to provide campers with the skills and confidence to advance in their football journey. Our enthusiastic staff and specialized curriculum allow young athletes to learn and grow through play\, with lots of encouragement and a strong emphasis on fun. \nCampers are grouped by age to participate in a series of interactive drills\, skill-development games\, and Skyhawks original competitions.  By adding just the right amount of friendly competition\, our instruction extends beyond the field\, teaching vital life lessons for both sports and life\, including respect\, teamwork\, sportsmanship\, integrity\, leadership\, and self-esteem. Your child will leave this camp with new friends\, new skills\, and a new passion for Football. \nOur development objectives include passing\, rushing\, catching\, route running\, route combinations\, and flag pulling. \nInterested in scrimmaging? Sign up for our Full-Day Camp option\, which combines an afternoon of competitive scrimmage with our renowned half-day instructional camp.
URL:https://skyhawkseastbay.com/event/walnut-creek-spring-break-flag-football-camp-skills/2026-04-10/
LOCATION:Rudgear Park\, 2261 Dapplegray Lane\, Walnut Creek\, CA\, 94596\, United States
CATEGORIES:Flag Football
ATTACH;FMTTYPE=image/png:https://skyhawkseastbay.com/wp-content/uploads/2025/07/14.png
GEO:37.8767979;-122.0286942
X-APPLE-STRUCTURED-LOCATION;VALUE=URI;X-ADDRESS=Rudgear Park 2261 Dapplegray Lane Walnut Creek CA 94596 United States;X-APPLE-RADIUS=500;X-TITLE=2261 Dapplegray Lane:geo:-122.0286942,37.8767979
END:VEVENT
BEGIN:VEVENT
DTSTART;TZID=America/Los_Angeles:20260403T183000
DTEND;TZID=America/Los_Angeles:20260403T193000
DTSTAMP:20260420T095651
CREATED:20251215T170111Z
LAST-MODIFIED:20251215T170111Z
UID:10011725-1775241000-1775244600@skyhawkseastbay.com
SUMMARY:Lafayette Spring Break Olympics Camp
DESCRIPTION:Lafayette Spring Break Olympics Camp \n\nDates: M-F (3/30/2026-4/03/2026)\nNo Class Dates: N/A\n# of Classes: 5\nTime: 9:00am-3:00pm\nAges: 6-11\nLocation: Lafayette Community Center/Lafayette Community Park\nPrice: $349\n\nJoin us for an action-packed week filled with Skyhawks’ original variations of your favorite sports\, including Baseball\, Basketball\, Capture the Flag\, Dodgeball\, Flag Football\, Soccer\, Track and Field\, Ultimate Frisbee\, and Volleyball! You’ll learn the key rules\, strategies\, and skills for each sport while also picking up important lessons about teamwork and sportsmanship. Our awesome Skyhawks coaches create a warm and welcoming atmosphere where everyone\, no matter their skill level\, can enjoy friendly competition\, receive lots of encouragement\, and simply have a blast! Bring your friends or come make new ones.
URL:https://skyhawkseastbay.com/event/lafayette-spring-break-olympics-camp/2026-04-03/
LOCATION:Lafayette Community Center  (Jennifer Russel Building)\, 500 St Marys Rd\, Lafayette\, CA\, 94549\, United States
CATEGORIES:Baseball,Basketball,Flag Football,Multi-Sport,Soccer,Volleyballl
ATTACH;FMTTYPE=image/png:https://skyhawkseastbay.com/wp-content/uploads/2025/07/7.png
GEO:37.8654873;-122.0991003
X-APPLE-STRUCTURED-LOCATION;VALUE=URI;X-ADDRESS=Lafayette Community Center  (Jennifer Russel Building) 500 St Marys Rd Lafayette CA 94549 United States;X-APPLE-RADIUS=500;X-TITLE=500 St Marys Rd:geo:-122.0991003,37.8654873
END:VEVENT
END:VCALENDAR