BEGIN:VCALENDAR
VERSION:2.0
PRODID:-//skyhawkseastbay.com - ECPv6.15.20//NONSGML v1.0//EN
CALSCALE:GREGORIAN
METHOD:PUBLISH
X-WR-CALNAME:skyhawkseastbay.com
X-ORIGINAL-URL:https://skyhawkseastbay.com
X-WR-CALDESC:Events for skyhawkseastbay.com
REFRESH-INTERVAL;VALUE=DURATION:PT1H
X-Robots-Tag:noindex
X-PUBLISHED-TTL:PT1H
BEGIN:VTIMEZONE
TZID:America/Los_Angeles
BEGIN:DAYLIGHT
TZOFFSETFROM:-0800
TZOFFSETTO:-0700
TZNAME:PDT
DTSTART:20250309T100000
END:DAYLIGHT
BEGIN:STANDARD
TZOFFSETFROM:-0700
TZOFFSETTO:-0800
TZNAME:PST
DTSTART:20251102T090000
END:STANDARD
BEGIN:DAYLIGHT
TZOFFSETFROM:-0800
TZOFFSETTO:-0700
TZNAME:PDT
DTSTART:20260308T100000
END:DAYLIGHT
BEGIN:STANDARD
TZOFFSETFROM:-0700
TZOFFSETTO:-0800
TZNAME:PST
DTSTART:20261101T090000
END:STANDARD
BEGIN:DAYLIGHT
TZOFFSETFROM:-0800
TZOFFSETTO:-0700
TZNAME:PDT
DTSTART:20270314T100000
END:DAYLIGHT
BEGIN:STANDARD
TZOFFSETFROM:-0700
TZOFFSETTO:-0800
TZNAME:PST
DTSTART:20271107T090000
END:STANDARD
END:VTIMEZONE
BEGIN:VEVENT
DTSTART;TZID=America/Los_Angeles:20260629T090000
DTEND;TZID=America/Los_Angeles:20260629T120000
DTSTAMP:20260420T071557
CREATED:20260314T041408Z
LAST-MODIFIED:20260314T041408Z
UID:10011848-1782723600-1782734400@skyhawkseastbay.com
SUMMARY:Walnut Creek Mini-Hawk Camp
DESCRIPTION:Walnut Creek Mini-Hawk Camp \n\nDates: M-Th (6/29/26-7/02/26)\n# of Classes: 4\nTime: 9:00am-12:00pm\nAges: 4-6\nLocation: Tice Valley Community Park\nPrice: $192\n\nThis ultimate multi-sport camp combines baseball\, basketball\, flag football\, soccer\, and track and field\, allowing young athletes to develop a passion for a variety of sports in one fun-filled environment. Our specialized curriculum and modified equipment enable our youngest athletes to explore balance\, body movement\, coordination\, socialization\, teamwork\, sportsmanship\, self-esteem\, and sport-specific skill development through play! Skyhawks staff create a positive atmosphere where kids of all abilities can progress at their own pace\, with lots of encouragement and a strong emphasis on fun. Discover why our Mini-Hawk Camp is parents’ #1 choice for introducing their young athletes to sports!
URL:https://skyhawkseastbay.com/event/walnut-creek-mini-hawk-camp/2026-06-29/
LOCATION:Tice Valley Sports Field\, N San Carlos Dr\, Walnut Creek\, CA\, 94598\, United States
CATEGORIES:Baseball,Basketball,Flag Football,Multi-Sport,Soccer
ATTACH;FMTTYPE=image/png:https://skyhawkseastbay.com/wp-content/uploads/2025/07/7.png
GEO:37.9213653;-122.0425505
X-APPLE-STRUCTURED-LOCATION;VALUE=URI;X-ADDRESS=Tice Valley Sports Field N San Carlos Dr Walnut Creek CA 94598 United States;X-APPLE-RADIUS=500;X-TITLE=N San Carlos Dr:geo:-122.0425505,37.9213653
END:VEVENT
BEGIN:VEVENT
DTSTART;TZID=America/Los_Angeles:20260629T090000
DTEND;TZID=America/Los_Angeles:20260629T120000
DTSTAMP:20260420T071557
CREATED:20260314T044205Z
LAST-MODIFIED:20260314T044205Z
UID:10011852-1782723600-1782734400@skyhawkseastbay.com
SUMMARY:Walnut Creek Summer Camp Olympics
DESCRIPTION:Walnut Creek Summer Camp Olympics \n\nDates: M-Th (6/29/26-7/02/26)\n# of Classes: 4\nTime: 9:00am-12:00pm\nAges: 7-12\nLocation: Tice Valley Community Park\nPrice: $192\n\nJoin us for an action-packed week filled with Skyhawks’ original variations of your favorite sports\, including Baseball\, Capture the Flag\, Dodgeball\, Flag Football\, Kickball\, Soccer\, Track and Field\, Ultimate\, and more! You’ll learn the key rules\, strategies\, and skills for each sport while also picking up important lessons about teamwork and sportsmanship. Our awesome Skyhawks coaches create a warm and welcoming atmosphere where everyone\, no matter their skill level\, can enjoy friendly competition\, receive lots of encouragement\, and simply have a blast!  Bring your friends or come make new ones.
URL:https://skyhawkseastbay.com/event/walnut-creek-summer-camp-olympics/2026-06-29/
LOCATION:Tice Valley Sports Field\, N San Carlos Dr\, Walnut Creek\, CA\, 94598\, United States
CATEGORIES:Baseball,Basketball,Flag Football,Multi-Sport,Soccer
ATTACH;FMTTYPE=image/png:https://skyhawkseastbay.com/wp-content/uploads/2025/07/7.png
GEO:37.9213653;-122.0425505
X-APPLE-STRUCTURED-LOCATION;VALUE=URI;X-ADDRESS=Tice Valley Sports Field N San Carlos Dr Walnut Creek CA 94598 United States;X-APPLE-RADIUS=500;X-TITLE=N San Carlos Dr:geo:-122.0425505,37.9213653
END:VEVENT
BEGIN:VEVENT
DTSTART;TZID=America/Los_Angeles:20260630T090000
DTEND;TZID=America/Los_Angeles:20260630T120000
DTSTAMP:20260420T071557
CREATED:20260314T041408Z
LAST-MODIFIED:20260314T041408Z
UID:10011849-1782810000-1782820800@skyhawkseastbay.com
SUMMARY:Walnut Creek Mini-Hawk Camp
DESCRIPTION:Walnut Creek Mini-Hawk Camp \n\nDates: M-Th (6/29/26-7/02/26)\n# of Classes: 4\nTime: 9:00am-12:00pm\nAges: 4-6\nLocation: Tice Valley Community Park\nPrice: $192\n\nThis ultimate multi-sport camp combines baseball\, basketball\, flag football\, soccer\, and track and field\, allowing young athletes to develop a passion for a variety of sports in one fun-filled environment. Our specialized curriculum and modified equipment enable our youngest athletes to explore balance\, body movement\, coordination\, socialization\, teamwork\, sportsmanship\, self-esteem\, and sport-specific skill development through play! Skyhawks staff create a positive atmosphere where kids of all abilities can progress at their own pace\, with lots of encouragement and a strong emphasis on fun. Discover why our Mini-Hawk Camp is parents’ #1 choice for introducing their young athletes to sports!
URL:https://skyhawkseastbay.com/event/walnut-creek-mini-hawk-camp/2026-06-30/
LOCATION:Tice Valley Sports Field\, N San Carlos Dr\, Walnut Creek\, CA\, 94598\, United States
CATEGORIES:Baseball,Basketball,Flag Football,Multi-Sport,Soccer
ATTACH;FMTTYPE=image/png:https://skyhawkseastbay.com/wp-content/uploads/2025/07/7.png
GEO:37.9213653;-122.0425505
X-APPLE-STRUCTURED-LOCATION;VALUE=URI;X-ADDRESS=Tice Valley Sports Field N San Carlos Dr Walnut Creek CA 94598 United States;X-APPLE-RADIUS=500;X-TITLE=N San Carlos Dr:geo:-122.0425505,37.9213653
END:VEVENT
BEGIN:VEVENT
DTSTART;TZID=America/Los_Angeles:20260630T090000
DTEND;TZID=America/Los_Angeles:20260630T120000
DTSTAMP:20260420T071557
CREATED:20260314T044205Z
LAST-MODIFIED:20260314T044205Z
UID:10011853-1782810000-1782820800@skyhawkseastbay.com
SUMMARY:Walnut Creek Summer Camp Olympics
DESCRIPTION:Walnut Creek Summer Camp Olympics \n\nDates: M-Th (6/29/26-7/02/26)\n# of Classes: 4\nTime: 9:00am-12:00pm\nAges: 7-12\nLocation: Tice Valley Community Park\nPrice: $192\n\nJoin us for an action-packed week filled with Skyhawks’ original variations of your favorite sports\, including Baseball\, Capture the Flag\, Dodgeball\, Flag Football\, Kickball\, Soccer\, Track and Field\, Ultimate\, and more! You’ll learn the key rules\, strategies\, and skills for each sport while also picking up important lessons about teamwork and sportsmanship. Our awesome Skyhawks coaches create a warm and welcoming atmosphere where everyone\, no matter their skill level\, can enjoy friendly competition\, receive lots of encouragement\, and simply have a blast!  Bring your friends or come make new ones.
URL:https://skyhawkseastbay.com/event/walnut-creek-summer-camp-olympics/2026-06-30/
LOCATION:Tice Valley Sports Field\, N San Carlos Dr\, Walnut Creek\, CA\, 94598\, United States
CATEGORIES:Baseball,Basketball,Flag Football,Multi-Sport,Soccer
ATTACH;FMTTYPE=image/png:https://skyhawkseastbay.com/wp-content/uploads/2025/07/7.png
GEO:37.9213653;-122.0425505
X-APPLE-STRUCTURED-LOCATION;VALUE=URI;X-ADDRESS=Tice Valley Sports Field N San Carlos Dr Walnut Creek CA 94598 United States;X-APPLE-RADIUS=500;X-TITLE=N San Carlos Dr:geo:-122.0425505,37.9213653
END:VEVENT
BEGIN:VEVENT
DTSTART;TZID=America/Los_Angeles:20260701T090000
DTEND;TZID=America/Los_Angeles:20260701T120000
DTSTAMP:20260420T071557
CREATED:20260314T041408Z
LAST-MODIFIED:20260314T041408Z
UID:10011850-1782896400-1782907200@skyhawkseastbay.com
SUMMARY:Walnut Creek Mini-Hawk Camp
DESCRIPTION:Walnut Creek Mini-Hawk Camp \n\nDates: M-Th (6/29/26-7/02/26)\n# of Classes: 4\nTime: 9:00am-12:00pm\nAges: 4-6\nLocation: Tice Valley Community Park\nPrice: $192\n\nThis ultimate multi-sport camp combines baseball\, basketball\, flag football\, soccer\, and track and field\, allowing young athletes to develop a passion for a variety of sports in one fun-filled environment. Our specialized curriculum and modified equipment enable our youngest athletes to explore balance\, body movement\, coordination\, socialization\, teamwork\, sportsmanship\, self-esteem\, and sport-specific skill development through play! Skyhawks staff create a positive atmosphere where kids of all abilities can progress at their own pace\, with lots of encouragement and a strong emphasis on fun. Discover why our Mini-Hawk Camp is parents’ #1 choice for introducing their young athletes to sports!
URL:https://skyhawkseastbay.com/event/walnut-creek-mini-hawk-camp/2026-07-01/
LOCATION:Tice Valley Sports Field\, N San Carlos Dr\, Walnut Creek\, CA\, 94598\, United States
CATEGORIES:Baseball,Basketball,Flag Football,Multi-Sport,Soccer
ATTACH;FMTTYPE=image/png:https://skyhawkseastbay.com/wp-content/uploads/2025/07/7.png
GEO:37.9213653;-122.0425505
X-APPLE-STRUCTURED-LOCATION;VALUE=URI;X-ADDRESS=Tice Valley Sports Field N San Carlos Dr Walnut Creek CA 94598 United States;X-APPLE-RADIUS=500;X-TITLE=N San Carlos Dr:geo:-122.0425505,37.9213653
END:VEVENT
BEGIN:VEVENT
DTSTART;TZID=America/Los_Angeles:20260701T090000
DTEND;TZID=America/Los_Angeles:20260701T120000
DTSTAMP:20260420T071557
CREATED:20260314T044205Z
LAST-MODIFIED:20260314T044205Z
UID:10011854-1782896400-1782907200@skyhawkseastbay.com
SUMMARY:Walnut Creek Summer Camp Olympics
DESCRIPTION:Walnut Creek Summer Camp Olympics \n\nDates: M-Th (6/29/26-7/02/26)\n# of Classes: 4\nTime: 9:00am-12:00pm\nAges: 7-12\nLocation: Tice Valley Community Park\nPrice: $192\n\nJoin us for an action-packed week filled with Skyhawks’ original variations of your favorite sports\, including Baseball\, Capture the Flag\, Dodgeball\, Flag Football\, Kickball\, Soccer\, Track and Field\, Ultimate\, and more! You’ll learn the key rules\, strategies\, and skills for each sport while also picking up important lessons about teamwork and sportsmanship. Our awesome Skyhawks coaches create a warm and welcoming atmosphere where everyone\, no matter their skill level\, can enjoy friendly competition\, receive lots of encouragement\, and simply have a blast!  Bring your friends or come make new ones.
URL:https://skyhawkseastbay.com/event/walnut-creek-summer-camp-olympics/2026-07-01/
LOCATION:Tice Valley Sports Field\, N San Carlos Dr\, Walnut Creek\, CA\, 94598\, United States
CATEGORIES:Baseball,Basketball,Flag Football,Multi-Sport,Soccer
ATTACH;FMTTYPE=image/png:https://skyhawkseastbay.com/wp-content/uploads/2025/07/7.png
GEO:37.9213653;-122.0425505
X-APPLE-STRUCTURED-LOCATION;VALUE=URI;X-ADDRESS=Tice Valley Sports Field N San Carlos Dr Walnut Creek CA 94598 United States;X-APPLE-RADIUS=500;X-TITLE=N San Carlos Dr:geo:-122.0425505,37.9213653
END:VEVENT
BEGIN:VEVENT
DTSTART;TZID=America/Los_Angeles:20260702T090000
DTEND;TZID=America/Los_Angeles:20260702T120000
DTSTAMP:20260420T071557
CREATED:20260314T041408Z
LAST-MODIFIED:20260314T041408Z
UID:10011851-1782982800-1782993600@skyhawkseastbay.com
SUMMARY:Walnut Creek Mini-Hawk Camp
DESCRIPTION:Walnut Creek Mini-Hawk Camp \n\nDates: M-Th (6/29/26-7/02/26)\n# of Classes: 4\nTime: 9:00am-12:00pm\nAges: 4-6\nLocation: Tice Valley Community Park\nPrice: $192\n\nThis ultimate multi-sport camp combines baseball\, basketball\, flag football\, soccer\, and track and field\, allowing young athletes to develop a passion for a variety of sports in one fun-filled environment. Our specialized curriculum and modified equipment enable our youngest athletes to explore balance\, body movement\, coordination\, socialization\, teamwork\, sportsmanship\, self-esteem\, and sport-specific skill development through play! Skyhawks staff create a positive atmosphere where kids of all abilities can progress at their own pace\, with lots of encouragement and a strong emphasis on fun. Discover why our Mini-Hawk Camp is parents’ #1 choice for introducing their young athletes to sports!
URL:https://skyhawkseastbay.com/event/walnut-creek-mini-hawk-camp/2026-07-02/
LOCATION:Tice Valley Sports Field\, N San Carlos Dr\, Walnut Creek\, CA\, 94598\, United States
CATEGORIES:Baseball,Basketball,Flag Football,Multi-Sport,Soccer
ATTACH;FMTTYPE=image/png:https://skyhawkseastbay.com/wp-content/uploads/2025/07/7.png
GEO:37.9213653;-122.0425505
X-APPLE-STRUCTURED-LOCATION;VALUE=URI;X-ADDRESS=Tice Valley Sports Field N San Carlos Dr Walnut Creek CA 94598 United States;X-APPLE-RADIUS=500;X-TITLE=N San Carlos Dr:geo:-122.0425505,37.9213653
END:VEVENT
BEGIN:VEVENT
DTSTART;TZID=America/Los_Angeles:20260702T090000
DTEND;TZID=America/Los_Angeles:20260702T120000
DTSTAMP:20260420T071557
CREATED:20260314T044205Z
LAST-MODIFIED:20260314T044205Z
UID:10011855-1782982800-1782993600@skyhawkseastbay.com
SUMMARY:Walnut Creek Summer Camp Olympics
DESCRIPTION:Walnut Creek Summer Camp Olympics \n\nDates: M-Th (6/29/26-7/02/26)\n# of Classes: 4\nTime: 9:00am-12:00pm\nAges: 7-12\nLocation: Tice Valley Community Park\nPrice: $192\n\nJoin us for an action-packed week filled with Skyhawks’ original variations of your favorite sports\, including Baseball\, Capture the Flag\, Dodgeball\, Flag Football\, Kickball\, Soccer\, Track and Field\, Ultimate\, and more! You’ll learn the key rules\, strategies\, and skills for each sport while also picking up important lessons about teamwork and sportsmanship. Our awesome Skyhawks coaches create a warm and welcoming atmosphere where everyone\, no matter their skill level\, can enjoy friendly competition\, receive lots of encouragement\, and simply have a blast!  Bring your friends or come make new ones.
URL:https://skyhawkseastbay.com/event/walnut-creek-summer-camp-olympics/2026-07-02/
LOCATION:Tice Valley Sports Field\, N San Carlos Dr\, Walnut Creek\, CA\, 94598\, United States
CATEGORIES:Baseball,Basketball,Flag Football,Multi-Sport,Soccer
ATTACH;FMTTYPE=image/png:https://skyhawkseastbay.com/wp-content/uploads/2025/07/7.png
GEO:37.9213653;-122.0425505
X-APPLE-STRUCTURED-LOCATION;VALUE=URI;X-ADDRESS=Tice Valley Sports Field N San Carlos Dr Walnut Creek CA 94598 United States;X-APPLE-RADIUS=500;X-TITLE=N San Carlos Dr:geo:-122.0425505,37.9213653
END:VEVENT
END:VCALENDAR