BEGIN:VCALENDAR
VERSION:2.0
PRODID:-//skyhawkseastbay.com - ECPv6.15.20//NONSGML v1.0//EN
CALSCALE:GREGORIAN
METHOD:PUBLISH
X-ORIGINAL-URL:https://skyhawkseastbay.com
X-WR-CALDESC:Events for skyhawkseastbay.com
REFRESH-INTERVAL;VALUE=DURATION:PT1H
X-Robots-Tag:noindex
X-PUBLISHED-TTL:PT1H
BEGIN:VTIMEZONE
TZID:America/Los_Angeles
BEGIN:DAYLIGHT
TZOFFSETFROM:-0800
TZOFFSETTO:-0700
TZNAME:PDT
DTSTART:20250309T100000
END:DAYLIGHT
BEGIN:STANDARD
TZOFFSETFROM:-0700
TZOFFSETTO:-0800
TZNAME:PST
DTSTART:20251102T090000
END:STANDARD
BEGIN:DAYLIGHT
TZOFFSETFROM:-0800
TZOFFSETTO:-0700
TZNAME:PDT
DTSTART:20260308T100000
END:DAYLIGHT
BEGIN:STANDARD
TZOFFSETFROM:-0700
TZOFFSETTO:-0800
TZNAME:PST
DTSTART:20261101T090000
END:STANDARD
BEGIN:DAYLIGHT
TZOFFSETFROM:-0800
TZOFFSETTO:-0700
TZNAME:PDT
DTSTART:20270314T100000
END:DAYLIGHT
BEGIN:STANDARD
TZOFFSETFROM:-0700
TZOFFSETTO:-0800
TZNAME:PST
DTSTART:20271107T090000
END:STANDARD
END:VTIMEZONE
BEGIN:VEVENT
DTSTART;TZID=America/Los_Angeles:20260422T153000
DTEND;TZID=America/Los_Angeles:20260422T160000
DTSTAMP:20260420T080557
CREATED:20251014T180145Z
LAST-MODIFIED:20251014T183209Z
UID:10011394-1776871800-1776873600@skyhawkseastbay.com
SUMMARY:Orinda Parent & Me BaseballTots
DESCRIPTION:Orinda Parent & Me BaseballTots \n\nDates: Wednesdays (4/15/2026 – 5/20/2026)\nNo Class Dates: N/A\n# of Weeks: 6\nTime: 3:30pm – 4:00pm\nAges: 2-3\nOrinda Community Center: Founders Auditorium\n\nThis class requires parent participation. Bring your child’s love for baseball to life with Skyhawks BaseballTots! Our fun and engaging program features a variety of dynamic games and activities that help kids develop essential skills while fostering their confidence and passion for the game. Skyhawks coaches create a warm and supportive environment where children of all abilities can learn and grow at their own pace\, with lots of encouragement and a big focus on FUN!  Our age-appropriate curriculum and modified equipment enable our youngest athletes to explore base-running\, hitting\, throwing\, catching\, body movement\, coordination\, balance\, agility\, and self-esteem through the power of play. Your child will leave this program with new skills\, new friends\, and a new love for baseball. 
URL:https://skyhawkseastbay.com/event/orinda-parent-me-baseballtots-spring/2026-04-22/
LOCATION:Orinda Community Center\, 28 Orinda Way\, Orinda\, CA\, 94563\, United States
CATEGORIES:Baseball
ATTACH;FMTTYPE=image/png:https://skyhawkseastbay.com/wp-content/uploads/2025/07/7.png
GEO:37.883165;-122.1878195
X-APPLE-STRUCTURED-LOCATION;VALUE=URI;X-ADDRESS=Orinda Community Center 28 Orinda Way Orinda CA 94563 United States;X-APPLE-RADIUS=500;X-TITLE=28 Orinda Way:geo:-122.1878195,37.883165
END:VEVENT
BEGIN:VEVENT
DTSTART;TZID=America/Los_Angeles:20260422T161500
DTEND;TZID=America/Los_Angeles:20260422T170000
DTSTAMP:20260420T080557
CREATED:20251014T182713Z
LAST-MODIFIED:20251014T182713Z
UID:10011436-1776874500-1776877200@skyhawkseastbay.com
SUMMARY:Orinda BaseballTots
DESCRIPTION:Orinda BaseballTots \n\nDates: Wednesdays (4/15/2026 – 5/20/2026)\nNo Class Dates: N/A\n# of Weeks: 6\nTime: 4:15pm – 5:00pm\nAges: 3-5\nOrinda Community Center: Founders Auditorium\n\nBring your child’s love for baseball to life with Skyhawks BaseballTots! Our fun and engaging program features a variety of dynamic games and activities that help kids develop essential skills while fostering their confidence and passion for the game. Skyhawks coaches create a warm and supportive environment where children of all abilities can learn and grow at their own pace\, with lots of encouragement and a big focus on FUN!  Our age-appropriate curriculum and modified equipment enable our youngest athletes to explore base-running\, hitting\, throwing\, catching\, body movement\, coordination\, balance\, agility\, and self-esteem through the power of play. Your child will leave this program with new skills\, new friends\, and a new love for baseball. 
URL:https://skyhawkseastbay.com/event/orinda-baseballtots-spring/2026-04-22/
LOCATION:Orinda Community Center\, 28 Orinda Way\, Orinda\, CA\, 94563\, United States
CATEGORIES:Baseball
ATTACH;FMTTYPE=image/png:https://skyhawkseastbay.com/wp-content/uploads/2025/07/7.png
GEO:37.883165;-122.1878195
X-APPLE-STRUCTURED-LOCATION;VALUE=URI;X-ADDRESS=Orinda Community Center 28 Orinda Way Orinda CA 94563 United States;X-APPLE-RADIUS=500;X-TITLE=28 Orinda Way:geo:-122.1878195,37.883165
END:VEVENT
BEGIN:VEVENT
DTSTART;TZID=America/Los_Angeles:20260422T161500
DTEND;TZID=America/Los_Angeles:20260422T170000
DTSTAMP:20260420T080557
CREATED:20251215T165309Z
LAST-MODIFIED:20251215T165309Z
UID:10011688-1776874500-1776877200@skyhawkseastbay.com
SUMMARY:Lafayette BaseballTots
DESCRIPTION:Lafayette BaseballTots \n\nDates: Wednesdays (4/15/26-5/20/26)\nNo Class Dates: N/A\n# of Weeks: 6\nTime: 4:15pm-5:00pm\nAges: 3-4\nLocation: Jennifer Russel Building\, Lafayette\nPrice: $190\nSeason: Winter-Spring Session 3\n\nBring your child’s love for baseball to life with Skyhawks BaseballTots! Our fun and engaging program features a variety of dynamic games and activities that help kids develop essential skills while fostering their confidence and passion for the game. Skyhawks coaches create a warm and supportive environment where children of all abilities can learn and grow at their own pace\, with lots of encouragement and a big focus on FUN! Our age-appropriate curriculum and modified equipment enable our youngest athletes to explore base-running\, hitting\, throwing\, catching\, body movement\, coordination\, balance\, agility\, and self-esteem through the power of play. Your child will leave this program with new skills\, new friends\, and a new love for baseball.
URL:https://skyhawkseastbay.com/event/lafayette-baseballtots-3/2026-04-22/
LOCATION:Lafayette Community Center  (Jennifer Russel Building)\, 500 St Marys Rd\, Lafayette\, CA\, 94549\, United States
CATEGORIES:Baseball
ATTACH;FMTTYPE=image/png:https://skyhawkseastbay.com/wp-content/uploads/2025/07/12.png
GEO:37.8654873;-122.0991003
X-APPLE-STRUCTURED-LOCATION;VALUE=URI;X-ADDRESS=Lafayette Community Center  (Jennifer Russel Building) 500 St Marys Rd Lafayette CA 94549 United States;X-APPLE-RADIUS=500;X-TITLE=500 St Marys Rd:geo:-122.0991003,37.8654873
END:VEVENT
BEGIN:VEVENT
DTSTART;TZID=America/Los_Angeles:20260422T171500
DTEND;TZID=America/Los_Angeles:20260422T180000
DTSTAMP:20260420T080557
CREATED:20251215T165451Z
LAST-MODIFIED:20251215T165451Z
UID:10011700-1776878100-1776880800@skyhawkseastbay.com
SUMMARY:Lafayette BaseballTots
DESCRIPTION:Lafayette BaseballTots \n\nDates: Wednesdays (4/15/26-5/20/26)\nNo Class Dates: N/A\n# of Weeks: 6\nTime: 4:15pm-5:00pm\nAges: 4-6\nLocation: Jennifer Russel Building\, Lafayette\nPrice: $190\nSeason: Winter-Spring Session 3\n\nBring your child’s love for baseball to life with Skyhawks BaseballTots! Our fun and engaging program features a variety of dynamic games and activities that help kids develop essential skills while fostering their confidence and passion for the game. Skyhawks coaches create a warm and supportive environment where children of all abilities can learn and grow at their own pace\, with lots of encouragement and a big focus on FUN! Our age-appropriate curriculum and modified equipment enable our youngest athletes to explore base-running\, hitting\, throwing\, catching\, body movement\, coordination\, balance\, agility\, and self-esteem through the power of play. Your child will leave this program with new skills\, new friends\, and a new love for baseball.
URL:https://skyhawkseastbay.com/event/lafayette-baseballtots-4/2026-04-22/
LOCATION:Lafayette Community Center  (Jennifer Russel Building)\, 500 St Marys Rd\, Lafayette\, CA\, 94549\, United States
CATEGORIES:Baseball
ATTACH;FMTTYPE=image/png:https://skyhawkseastbay.com/wp-content/uploads/2025/07/12.png
GEO:37.8654873;-122.0991003
X-APPLE-STRUCTURED-LOCATION;VALUE=URI;X-ADDRESS=Lafayette Community Center  (Jennifer Russel Building) 500 St Marys Rd Lafayette CA 94549 United States;X-APPLE-RADIUS=500;X-TITLE=500 St Marys Rd:geo:-122.0991003,37.8654873
END:VEVENT
END:VCALENDAR